Workbook

Sheet Info
A1: Deutschland nach Landkreisen und kreisfreien Städten
A2: 400 Kreise, 16 Indikatoren – Datengrundlage der interaktiven Karte (herrhochhaus.de/deutschland-im-uberblick)
A4: Aufbau
A5: Tab "Daten": Urtabelle mit allen 400 Kreisen und allen Werten samt Rangplatz (Platz 1 = höchster Wert).
A6: Je Indikator ein eigener Tab: nach Platz 1–400 sortiert; alle Angaben werden per INDEX/VERGLEICH (in der Datei englisch als INDEX/MATCH gespeichert) live aus der Urtabelle ausgelesen.
A7: Die Plätze sind in der Urtabelle als eigene Spalte je Indikator vorhanden und lassen sich dort direkt nachschlagen.
A8: Wird ein Wert in der Urtabelle geändert, aktualisieren sich die Indikator-Tabs; die Reihenfolge (Platz-Spalte) bleibt dann allerdings statisch.
A9: Indikatoren und Quellen
A10: Indikator | B10: Beschreibung | C10: Quelle | D10: Datenlink
A11: BIP je Kopf | B11: Bruttoinlandsprodukt je Einwohner:in (2023) | C11: VGR der Länder (Statistikportal der statistischen Ämter der Länder) | D11: https://www.statistikportal.de/de/vgrdL
A12: Gewerbesteuer je Kopf | B12: Gewerbesteuer-Istaufkommen je Einwohner:in (2023) | C12: Realsteuervergleich, GENESIS 71231-01-03-4 (2023) | D12: https://www.regionalstatistik.de/genesisws/downloader/00/tables/71231-01-03-4_00.csv
A13: Komm. Schulden je Kopf | B13: Integrierte kommunale Schulden je Einwohner:in (Tsd €) | C13: Deutschlandatlas 2024 (BBSR), Kreistabelle | D13: https://www.deutschlandatlas.bund.de/SharedDocs/Downloads/DE/HA24/Deutschlandatlas_KRS1222_HA24.csv?__blob=publicationFile
A14: Arbeitslosenquote | B14: Arbeitslosenquote (2023) | C14: Deutschlandatlas 2024 (BBSR), Kreistabelle | D14: https://www.deutschlandatlas.bund.de/SharedDocs/Downloads/DE/HA24/Deutschlandatlas_KRS1222_HA24.csv?__blob=publicationFile
A15: Frauen im Beruf | B15: Beschäftigungsquote Frauen: svp beschäftigte Frauen je 100 Frauen 15–64 (30.06.2024) | C15: Beschäftigtenstatistik, GENESIS 13111-09-01-4-B (30.06.2024) | D15: https://www.regionalstatistik.de/genesisws/downloader/00/tables/13111-09-01-4-B_00.csv
A16: Eigenheimquote | B16: Anteil selbstgenutzter Wohnungen (2022) | C16: Deutschlandatlas 2024 (BBSR), Kreistabelle | D16: https://www.deutschlandatlas.bund.de/SharedDocs/Downloads/DE/HA24/Deutschlandatlas_KRS1222_HA24.csv?__blob=publicationFile
A17: Unter-35-Anteil | B17: Anteil der Unter-35-Jährigen an der Bevölkerung (31.12.2023) | C17: Bevölkerungsfortschreibung, GENESIS 12411-09-01-4-B (31.12.2023) | D17: https://www.regionalstatistik.de/genesisws/downloader/00/tables/12411-09-01-4-B_00.csv
A18: Bevölkerungsdichte | B18: Einwohner je km² (2022) | C18: Bevölkerungsfortschreibung & BKG-Kreisgrenzen (geodätische Flächenberechnung) | D18: https://opendatalab.de
A19: Urbanisierungsquote | B19: Anteil der Einwohner:innen in Gemeinden ab 10.000 EW (31.12.2025) | C19: GENESIS-Regionalstatistik 12411-01-01-5-B: Bevölkerung der Gemeinden, 31.12.2025 | D19: https://www.regionalstatistik.de/genesisws/downloader/00/tables/12411-01-01-5-B_00.csv
A20: Median-Gemeindegröße | B20: Median der Einwohnerzahlen der Gemeinden im Kreis (31.12.2025); bei kreisfreien Städten: Stadtgebiet | C20: GENESIS-Regionalstatistik 12411-01-01-5-B: Bevölkerung der Gemeinden, 31.12.2025 | D20: https://www.regionalstatistik.de/genesisws/downloader/00/tables/12411-01-01-5-B_00.csv
A21: Sozialhilfequote | B21: Personen in sozialer Mindestsicherung (2024) | C21: Deutschlandatlas 2024 (BBSR), Kreistabelle | D21: https://www.deutschlandatlas.bund.de/SharedDocs/Downloads/DE/HA24/Deutschlandatlas_KRS1222_HA24.csv?__blob=publicationFile
... A26: Dienstleistungsanteil | B26: Anteil der Dienstleistungen an den Beschäftigten am Arbeitsort (2024) | C26: Beschäftigtenstatistik, GENESIS 13111-07-05-4-B (30.06.2024) | D26: https://www.regionalstatistik.de/genesisws/downloader/00/tables/13111-07-05-4-B_00.csv

Sheet Daten
A1: Kreis | B1: Typ | C1: Bundesland | D1: Einwohner | E1: Region | F1: BIP je Kopf (€) | G1: Platz BIP je Kopf | H1: Gewerbesteuer je Kopf (€) | I1: Platz Gewerbesteuer je Kopf | J1: Komm. Schulden je Kopf (Tsd €) | K1: Platz Komm. Schulden je Kopf | L1: Arbeitslosenquote (%) | M1: Platz Arbeitslosenquote | N1: Frauen im Beruf (%) | O1: Platz Frauen im Beruf | P1: Eigenheimquote (%) | Q1: Platz Eigenheimquote | R1: Unter-35-Anteil (%) | S1: Platz Unter-35-Anteil | T1: Bevölkerungsdichte (/km²) | U1: Platz Bevölkerungsdichte | V1: Urbanisierungsquote (%) | W1: Platz Urbanisierungsquote | X1: Median-Gemeindegröße (EW) | Y1: Platz Median-Gemeindegröße | Z1: Sozialhilfequote (%) | AA1: Platz Sozialhilfequote | AB1: Schüler je Schule | AC1: Platz Schüler je Schule | AD1: Ärztedichte (je 100.000 EW) | AE1: Platz Ärztedichte | AF1: Industrieanteil (%) | AG1: Platz Industrieanteil | AH1: Landwirtschaftsanteil (%) | AI1: Platz Landwirtschaftsanteil | AJ1: Dienstleistungsanteil (%) | AK1: Platz Dienstleistungsanteil
A2: Flensburg | B2: Kreisfreie Stadt | C2: Schleswig-Holstein | D2: 89934 | E2: West | F2: 54814 | G2: 80 | H2: 1003 | I2: 60 | J2: 13.34 | K2: 16 | L2: 7.9 | M2: 51 | N2: 53.6 | O2: 381 | P2: 24.5 | Q2: 373 | R2: 42 | S2: 17 | T2: 1832.6 | U2: 31 | V2: 100 | W2: 1 | X2: 95568 | Y2: 70 | Z2: 14.42 | AA2: 21 | AB2: 242 | AC2: 233 | AD2: 211.9 | AE2: 83 | AF2: 15.9 | AG2: 368 | AH2: 0 | AI2: 376 | AJ2: 84.1 | AK2: 29
A3: Kiel | B3: Kreisfreie Stadt | C3: Schleswig-Holstein | D3: 246601 | E3: West | F3: 58952 | G3: 64 | H3: 1072 | I3: 50 | J3: 9.11 | K3: 100 | L3: 7.6 | M3: 59 | N3: 55.1 | O3: 368 | P3: 24.3 | Q3: 375 | R3: 43.2 | S3: 10 | T3: 2200.9 | U3: 18 | V3: 100 | W3: 2 | X3: 251842 | Y3: 27 | Z3: 14.71 | AA3: 18 | AB3: 226 | AC3: 269 | AD3: 262.3 | AE3: 32 | AF3: 15.7 | AG3: 372 | AH3: 0.1 | AI3: 327 | AJ3: 84.2 | AK3: 28
A4: Lübeck | B4: Kreisfreie Stadt | C4: Schleswig-Holstein | D4: 215846 | E4: West | F4: 56898 | G4: 72 | H4: 708 | I4: 180 | J4: 11.14 | K4: 37 | L4: 7.9 | M4: 52 | N4: 58 | O4: 332 | P4: 29 | Q4: 353 | R4: 36.6 | S4: 136 | T4: 1021.5 | U4: 76 | V4: 100 | W4: 3 | X4: 217061 | Y4: 35 | Z4: 13.53 | AA4: 27 | AB4: 205.4 | AC4: 328 | AD4: 242.3 | AE4: 50 | AF4: 23.8 | AG4: 291 | AH4: 0.1 | AI4: 328 | AJ4: 76.1 | AK4: 94
A5: Neumünster | B5: Kreisfreie Stadt | C5: Schleswig-Holstein | D5: 79905 | E5: West | F5: 56099 | G5: 76 | H5: 919 | I5: 82 | J5: 16.02 | K5: 4 | L5: 8.3 | M5: 40 | N5: 59.5 | O5: 307 | P5: 37 | Q5: 315 | R5: 36.7 | S5: 128 | T5: 1120.3 | U5: 64 | V5: 100 | W5: 4 | X5: 80145 | Y5: 75 | Z5: 17.91 | AA5: 3 | AB5: 236.6 | AC5: 241 | AD5: 171.7 | AE5: 120 | AF5: 19.2 | AG5: 348 | AH5: 0.8 | AI5: 178 | AJ5: 79.9 | AK5: 53
A6: Dithmarschen | B6: Landkreis | C6: Schleswig-Holstein | D6: 133251 | E6: West | F6: 46284 | G6: 150 | H6: 850 | I6: 108 | J6: 9.77 | K6: 68 | L6: 5.8 | M6: 132 | N6: 60 | O6: 295 | P6: 57.9 | Q6: 129 | R6: 33.4 | S6: 292 | T6: 93.6 | U6: 348 | V6: 26.1 | W6: 357 | X6: 498 | Y6: 386 | Z6: 8.62 | AA6: 122 | AB6: 219.6 | AC6: 289 | AD6: 150.5 | AE6: 197 | AF6: 25.1 | AG6: 273 | AH6: 4.2 | AI6: 11 | AJ6: 70.8 | AK6: 168
A7: Herzogtum Lauenburg | B7: Landkreis | C7: Schleswig-Holstein | D7: 199152 | E7: West | F7: 29304 | G7: 372 | H7: 562 | I7: 275 | J7: 7.68 | K7: 186 | L7: 5.2 | M7: 185 | N7: 61 | O7: 257 | P7: 50.9 | Q7: 220 | R7: 34.2 | S7: 260 | T7: 158 | U7: 241 | V7: 53.5 | W7: 252 | X7: 526 | Y7: 384 | Z7: 8.13 | AA7: 151 | AB7: 269 | AC7: 176 | AD7: 134.2 | AE7: 328 | AF7: 25.8 | AG7: 256 | AH7: 1.5 | AI7: 100 | AJ7: 72.7 | AK7: 145
A8: Nordfriesland | B8: Landkreis | C8: Schleswig-Holstein | D8: 167147 | E8: West | F8: 47207 | G8: 135 | H8: 1128 | I8: 38 | J8: 8.25 | K8: 148 | L8: 4.8 | M8: 210 | N8: 62.8 | O8: 198 | P8: 52.9 | Q8: 201 | R8: 33.4 | S8: 293 | T8: 80.2 | U8: 366 | V8: 28.3 | W8: 349 | X8: 556 | Y8: 379 | Z8: 6.6 | AA8: 216 | AB8: 175.2 | AC8: 382 | AD8: 157.4 | AE8: 163 | AF8: 18.3 | AG8: 354 | AH8: 2.4 | AI8: 47 | AJ8: 79.3 | AK8: 59
A9: Ostholstein | B9: Landkreis | C9: Schleswig-Holstein | D9: 201487 | E9: West | F9: 35405 | G9: 300 | H9: 587 | I9: 258 | J9: 7.86 | K9: 168 | L9: 4.9 | M9: 204 | N9: 64.2 | O9: 147 | P9: 50.9 | Q9: 221 | R9: 29.3 | S9: 356 | T9: 145.6 | U9: 254 | V9: 59.9 | W9: 225 | X9: 2190 | Y9: 295 | Z9: 6.65 | AA9: 213 | AB9: 245.4 | AC9: 225 | AD9: 161.8 | AE9: 144 | AF9: 20.2 | AG9: 341 | AH9: 1.4 | AI9: 113 | AJ9: 78.4 | AK9: 71
A10: Pinneberg | B10: Landkreis | C10: Schleswig-Holstein | D10: 317085 | E10: West | F10: 35660 | G10: 293 | H10: 887 | I10: 93 | J10: 7.41 | K10: 214 | L10: 5.2 | M10: 186 | N10: 63.3 | O10: 183 | P10: 48.9 | Q10: 244 | R10: 34.5 | S10: 250 | T10: 498.6 | U10: 123 | V10: 77 | W10: 166 | X10: 2274 | Y10: 287 | Z10: 8.12 | AA10: 152 | AB10: 249.4 | AC10: 214 | AD10: 144.4 | AE10: 249 | AF10: 26.9 | AG10: 243 | AH10: 2.1 | AI10: 61 | AJ10: 71 | AK10: 166
A11: Plön | B11: Landkreis | C11: Schleswig-Holstein | D11: 129353 | E11: West | F11: 26468 | G11: 392 | H11: 367 | I11: 381 | J11: 6.72 | K11: 272 | L11: 4.2 | M11: 252 | N11: 61.3 | O11: 248 | P11: 57.4 | Q11: 136 | R11: 30.9 | S11: 340 | T11: 119.7 | U11: 293 | V11: 23.4 | W11: 365 | X11: 577 | Y11: 378 | Z11: 7.02 | AA11: 198 | AB11: 197.7 | AC11: 348 | AD11: 139.5 | AE11: 287 | AF11: 22.4 | AG11: 312 | AH11: 2.5 | AI11: 44 | AJ11: 75.1 | AK11: 109
A12: Rendsburg-Eckernförde | B12: Landkreis | C12: Schleswig-Holstein | D12: 274765 | E12: West | F12: 38396 | G12: 246 | H12: 503 | I12: 312 | J12: 7.04 | K12: 248 | L12: 4.4 | M12: 236 | N12: 60.4 | O12: 285 | P12: 55.4 | Q12: 163 | R12: 33.4 | S12: 294 | T12: 126.9 | U12: 280 | V12: 26.9 | W12: 355 | X12: 698 | Y12: 372 | Z12: 6.78 | AA12: 207 | AB12: 208.6 | AC12: 313 | AD12: 163.8 | AE12: 136 | AF12: 23.2 | AG12: 299 | AH12: 2.5 | AI12: 45 | AJ12: 74.3 | AK12: 120
A13: Schleswig-Flensburg | B13: Landkreis | C13: Schleswig-Holstein | D13: 202647 | E13: West | F13: 36542 | G13: 279 | H13: 712 | I13: 177 | J13: 8.49 | K13: 133 | L13: 5.2 | M13: 187 | N13: 60.6 | O13: 275 | P13: 57.1 | Q13: 139 | R13: 33.8 | S13: 272 | T13: 102 | U13: 328 | V13: 23.8 | W13: 364 | X13: 834 | Y13: 364 | Z13: 7.08 | AA13: 195 | AB13: 158.6 | AC13: 394 | AD13: 134.1 | AE13: 329 | AF13: 23.1 | AG13: 300 | AH13: 2.9 | AI13: 30 | AJ13: 74 | AK13: 127
... A401: Altenburger Land | B401: Landkreis | C401: Thüringen | D401: 88356 | E401: Ost | F401: 27545 | G401: 385 | H401: 328 | I401: 394 | J401: 7.39 | K401: 218 | L401: 8.3 | M401: 43 | N401: 64 | O401: 161 | P401: 41 | Q401: 299 | R401: 26.5 | S401: 396 | T401: 155.4 | U401: 245 | V401: 62.7 | W401: 215 | X401: 776 | Y401: 367 | Z401: 9.37 | AA401: 94 | AB401: 208.2 | AC401: 315 | AD401: 145.1 | AE401: 240 | AF401: 36.8 | AG401: 122 | AH401: 2.1 | AI401: 64 | AJ401: 61.1 | AK401: 291

Sheet BIP je Kopf
A1: Platz | B1: Kreis | C1: Typ | D1: Bundesland | E1: Einwohner | F1: Region | G1: BIP je Kopf
A2: 1 | B2: =INDEX(Daten!$A$2:$A$401,MATCH($A2,Daten!$G$2:$G$401,0)) -> Wolfsburg | C2: =INDEX(Daten!$B$2:$B$401,MATCH($A2,Daten!$G$2:$G$401,0)) -> Kreisfreie Stadt | D2: =INDEX(Daten!$C$2:$C$401,MATCH($A2,Daten!$G$2:$G$401,0)) -> Niedersachsen | E2: =INDEX(Daten!$D$2:$D$401,MATCH($A2,Daten!$G$2:$G$401,0)) -> 123840 | F2: =INDEX(Daten!$E$2:$E$401,MATCH($A2,Daten!$G$2:$G$401,0)) -> West | G2: =INDEX(Daten!$F$2:$F$401,MATCH($A2,Daten!$G$2:$G$401,0)) -> 177453
A3: 2 | B3: =INDEX(Daten!$A$2:$A$401,MATCH($A3,Daten!$G$2:$G$401,0)) -> Ingolstadt | C3: =INDEX(Daten!$B$2:$B$401,MATCH($A3,Daten!$G$2:$G$401,0)) -> Kreisfreie Stadt | D3: =INDEX(Daten!$C$2:$C$401,MATCH($A3,Daten!$G$2:$G$401,0)) -> Bayern | E3: =INDEX(Daten!$D$2:$D$401,MATCH($A3,Daten!$G$2:$G$401,0)) -> 136952 | F3: =INDEX(Daten!$E$2:$E$401,MATCH($A3,Daten!$G$2:$G$401,0)) -> West | G3: =INDEX(Daten!$F$2:$F$401,MATCH($A3,Daten!$G$2:$G$401,0)) -> 167402
A4: 3 | B4: =INDEX(Daten!$A$2:$A$401,MATCH($A4,Daten!$G$2:$G$401,0)) -> München | C4: =INDEX(Daten!$B$2:$B$401,MATCH($A4,Daten!$G$2:$G$401,0)) -> Landkreis | D4: =INDEX(Daten!$C$2:$C$401,MATCH($A4,Daten!$G$2:$G$401,0)) -> Bayern | E4: =INDEX(Daten!$D$2:$D$401,MATCH($A4,Daten!$G$2:$G$401,0)) -> 349685 | F4: =INDEX(Daten!$E$2:$E$401,MATCH($A4,Daten!$G$2:$G$401,0)) -> West | G4: =INDEX(Daten!$F$2:$F$401,MATCH($A4,Daten!$G$2:$G$401,0)) -> 145605
A5: 4 | B5: =INDEX(Daten!$A$2:$A$401,MATCH($A5,Daten!$G$2:$G$401,0)) -> Erlangen | C5: =INDEX(Daten!$B$2:$B$401,MATCH($A5,Daten!$G$2:$G$401,0)) -> Kreisfreie Stadt | D5: =INDEX(Daten!$C$2:$C$401,MATCH($A5,Daten!$G$2:$G$401,0)) -> Bayern | E5: =INDEX(Daten!$D$2:$D$401,MATCH($A5,Daten!$G$2:$G$401,0)) -> 112385 | F5: =INDEX(Daten!$E$2:$E$401,MATCH($A5,Daten!$G$2:$G$401,0)) -> West | G5: =INDEX(Daten!$F$2:$F$401,MATCH($A5,Daten!$G$2:$G$401,0)) -> 128484
A6: 5 | B6: =INDEX(Daten!$A$2:$A$401,MATCH($A6,Daten!$G$2:$G$401,0)) -> Coburg | C6: =INDEX(Daten!$B$2:$B$401,MATCH($A6,Daten!$G$2:$G$401,0)) -> Kreisfreie Stadt | D6: =INDEX(Daten!$C$2:$C$401,MATCH($A6,Daten!$G$2:$G$401,0)) -> Bayern | E6: =INDEX(Daten!$D$2:$D$401,MATCH($A6,Daten!$G$2:$G$401,0)) -> 40842 | F6: =INDEX(Daten!$E$2:$E$401,MATCH($A6,Daten!$G$2:$G$401,0)) -> West | G6: =INDEX(Daten!$F$2:$F$401,MATCH($A6,Daten!$G$2:$G$401,0)) -> 125754
A7: 6 | B7: =INDEX(Daten!$A$2:$A$401,MATCH($A7,Daten!$G$2:$G$401,0)) -> Frankfurt am Main | C7: =INDEX(Daten!$B$2:$B$401,MATCH($A7,Daten!$G$2:$G$401,0)) -> Kreisfreie Stadt | D7: =INDEX(Daten!$C$2:$C$401,MATCH($A7,Daten!$G$2:$G$401,0)) -> Hessen | E7: =INDEX(Daten!$D$2:$D$401,MATCH($A7,Daten!$G$2:$G$401,0)) -> 764104 | F7: =INDEX(Daten!$E$2:$E$401,MATCH($A7,Daten!$G$2:$G$401,0)) -> West | G7: =INDEX(Daten!$F$2:$F$401,MATCH($A7,Daten!$G$2:$G$401,0)) -> 119204
A8: 7 | B8: =INDEX(Daten!$A$2:$A$401,MATCH($A8,Daten!$G$2:$G$401,0)) -> Schweinfurt | C8: =INDEX(Daten!$B$2:$B$401,MATCH($A8,Daten!$G$2:$G$401,0)) -> Kreisfreie Stadt | D8: =INDEX(Daten!$C$2:$C$401,MATCH($A8,Daten!$G$2:$G$401,0)) -> Bayern | E8: =INDEX(Daten!$D$2:$D$401,MATCH($A8,Daten!$G$2:$G$401,0)) -> 53319 | F8: =INDEX(Daten!$E$2:$E$401,MATCH($A8,Daten!$G$2:$G$401,0)) -> West | G8: =INDEX(Daten!$F$2:$F$401,MATCH($A8,Daten!$G$2:$G$401,0)) -> 117691
A9: 8 | B9: =INDEX(Daten!$A$2:$A$401,MATCH($A9,Daten!$G$2:$G$401,0)) -> Stuttgart | C9: =INDEX(Daten!$B$2:$B$401,MATCH($A9,Daten!$G$2:$G$401,0)) -> Kreisfreie Stadt | D9: =INDEX(Daten!$C$2:$C$401,MATCH($A9,Daten!$G$2:$G$401,0)) -> Baden-Württemberg | E9: =INDEX(Daten!$D$2:$D$401,MATCH($A9,Daten!$G$2:$G$401,0)) -> 630305 | F9: =INDEX(Daten!$E$2:$E$401,MATCH($A9,Daten!$G$2:$G$401,0)) -> West | G9: =INDEX(Daten!$F$2:$F$401,MATCH($A9,Daten!$G$2:$G$401,0)) -> 116858
A10: 9 | B10: =INDEX(Daten!$A$2:$A$401,MATCH($A10,Daten!$G$2:$G$401,0)) -> Regensburg | C10: =INDEX(Daten!$B$2:$B$401,MATCH($A10,Daten!$G$2:$G$401,0)) -> Kreisfreie Stadt | D10: =INDEX(Daten!$C$2:$C$401,MATCH($A10,Daten!$G$2:$G$401,0)) -> Bayern | E10: =INDEX(Daten!$D$2:$D$401,MATCH($A10,Daten!$G$2:$G$401,0)) -> 152270 | F10: =INDEX(Daten!$E$2:$E$401,MATCH($A10,Daten!$G$2:$G$401,0)) -> West | G10: =INDEX(Daten!$F$2:$F$401,MATCH($A10,Daten!$G$2:$G$401,0)) -> 113572
A11: 10 | B11: =INDEX(Daten!$A$2:$A$401,MATCH($A11,Daten!$G$2:$G$401,0)) -> Düsseldorf | C11: =INDEX(Daten!$B$2:$B$401,MATCH($A11,Daten!$G$2:$G$401,0)) -> Kreisfreie Stadt | D11: =INDEX(Daten!$C$2:$C$401,MATCH($A11,Daten!$G$2:$G$401,0)) -> Nordrhein-Westfalen | E11: =INDEX(Daten!$D$2:$D$401,MATCH($A11,Daten!$G$2:$G$401,0)) -> 620523 | F11: =INDEX(Daten!$E$2:$E$401,MATCH($A11,Daten!$G$2:$G$401,0)) -> West | G11: =INDEX(Daten!$F$2:$F$401,MATCH($A11,Daten!$G$2:$G$401,0)) -> 104658
A12: 11 | B12: =INDEX(Daten!$A$2:$A$401,MATCH($A12,Daten!$G$2:$G$401,0)) -> Ulm | C12: =INDEX(Daten!$B$2:$B$401,MATCH($A12,Daten!$G$2:$G$401,0)) -> Kreisfreie Stadt | D12: =INDEX(Daten!$C$2:$C$401,MATCH($A12,Daten!$G$2:$G$401,0)) -> Baden-Württemberg | E12: =INDEX(Daten!$D$2:$D$401,MATCH($A12,Daten!$G$2:$G$401,0)) -> 126405 | F12: =INDEX(Daten!$E$2:$E$401,MATCH($A12,Daten!$G$2:$G$401,0)) -> West | G12: =INDEX(Daten!$F$2:$F$401,MATCH($A12,Daten!$G$2:$G$401,0)) -> 102663
A13: 12 | B13: =INDEX(Daten!$A$2:$A$401,MATCH($A13,Daten!$G$2:$G$401,0)) -> München | C13: =INDEX(Daten!$B$2:$B$401,MATCH($A13,Daten!$G$2:$G$401,0)) -> Kreisfreie Stadt | D13: =INDEX(Daten!$C$2:$C$401,MATCH($A13,Daten!$G$2:$G$401,0)) -> Bayern | E13: =INDEX(Daten!$D$2:$D$401,MATCH($A13,Daten!$G$2:$G$401,0)) -> 1488202 | F13: =INDEX(Daten!$E$2:$E$401,MATCH($A13,Daten!$G$2:$G$401,0)) -> West | G13: =INDEX(Daten!$F$2:$F$401,MATCH($A13,Daten!$G$2:$G$401,0)) -> 98450
... A401: 400 | B401: =INDEX(Daten!$A$2:$A$401,MATCH($A401,Daten!$G$2:$G$401,0)) -> Steinburg | C401: =INDEX(Daten!$B$2:$B$401,MATCH($A401,Daten!$G$2:$G$401,0)) -> Landkreis | D401: =INDEX(Daten!$C$2:$C$401,MATCH($A401,Daten!$G$2:$G$401,0)) -> Schleswig-Holstein | E401: =INDEX(Daten!$D$2:$D$401,MATCH($A401,Daten!$G$2:$G$401,0)) -> 448197 | F401: =INDEX(Daten!$E$2:$E$401,MATCH($A401,Daten!$G$2:$G$401,0)) -> West | G401: =INDEX(Daten!$F$2:$F$401,MATCH($A401,Daten!$G$2:$G$401,0)) -> 10718

Sheet Gewerbesteuer je Kopf
A1: Platz | B1: Kreis | C1: Typ | D1: Bundesland | E1: Einwohner | F1: Region | G1: Gewerbesteuer je Kopf
A2: 1 | B2: =INDEX(Daten!$A$2:$A$401,MATCH($A2,Daten!$I$2:$I$401,0)) -> Frankfurt am Main | C2: =INDEX(Daten!$B$2:$B$401,MATCH($A2,Daten!$I$2:$I$401,0)) -> Kreisfreie Stadt | D2: =INDEX(Daten!$C$2:$C$401,MATCH($A2,Daten!$I$2:$I$401,0)) -> Hessen | E2: =INDEX(Daten!$D$2:$D$401,MATCH($A2,Daten!$I$2:$I$401,0)) -> 764104 | F2: =INDEX(Daten!$E$2:$E$401,MATCH($A2,Daten!$I$2:$I$401,0)) -> West | G2: =INDEX(Daten!$H$2:$H$401,MATCH($A2,Daten!$I$2:$I$401,0)) -> 3766
A3: 2 | B3: =INDEX(Daten!$A$2:$A$401,MATCH($A3,Daten!$I$2:$I$401,0)) -> München | C3: =INDEX(Daten!$B$2:$B$401,MATCH($A3,Daten!$I$2:$I$401,0)) -> Landkreis | D3: =INDEX(Daten!$C$2:$C$401,MATCH($A3,Daten!$I$2:$I$401,0)) -> Bayern | E3: =INDEX(Daten!$D$2:$D$401,MATCH($A3,Daten!$I$2:$I$401,0)) -> 349685 | F3: =INDEX(Daten!$E$2:$E$401,MATCH($A3,Daten!$I$2:$I$401,0)) -> West | G3: =INDEX(Daten!$H$2:$H$401,MATCH($A3,Daten!$I$2:$I$401,0)) -> 2790
A4: 3 | B4: =INDEX(Daten!$A$2:$A$401,MATCH($A4,Daten!$I$2:$I$401,0)) -> Düsseldorf | C4: =INDEX(Daten!$B$2:$B$401,MATCH($A4,Daten!$I$2:$I$401,0)) -> Kreisfreie Stadt | D4: =INDEX(Daten!$C$2:$C$401,MATCH($A4,Daten!$I$2:$I$401,0)) -> Nordrhein-Westfalen | E4: =INDEX(Daten!$D$2:$D$401,MATCH($A4,Daten!$I$2:$I$401,0)) -> 620523 | F4: =INDEX(Daten!$E$2:$E$401,MATCH($A4,Daten!$I$2:$I$401,0)) -> West | G4: =INDEX(Daten!$H$2:$H$401,MATCH($A4,Daten!$I$2:$I$401,0)) -> 2588
A5: 4 | B5: =INDEX(Daten!$A$2:$A$401,MATCH($A5,Daten!$I$2:$I$401,0)) -> Stuttgart | C5: =INDEX(Daten!$B$2:$B$401,MATCH($A5,Daten!$I$2:$I$401,0)) -> Kreisfreie Stadt | D5: =INDEX(Daten!$C$2:$C$401,MATCH($A5,Daten!$I$2:$I$401,0)) -> Baden-Württemberg | E5: =INDEX(Daten!$D$2:$D$401,MATCH($A5,Daten!$I$2:$I$401,0)) -> 630305 | F5: =INDEX(Daten!$E$2:$E$401,MATCH($A5,Daten!$I$2:$I$401,0)) -> West | G5: =INDEX(Daten!$H$2:$H$401,MATCH($A5,Daten!$I$2:$I$401,0)) -> 2532
A6: 5 | B6: =INDEX(Daten!$A$2:$A$401,MATCH($A6,Daten!$I$2:$I$401,0)) -> Coburg | C6: =INDEX(Daten!$B$2:$B$401,MATCH($A6,Daten!$I$2:$I$401,0)) -> Kreisfreie Stadt | D6: =INDEX(Daten!$C$2:$C$401,MATCH($A6,Daten!$I$2:$I$401,0)) -> Bayern | E6: =INDEX(Daten!$D$2:$D$401,MATCH($A6,Daten!$I$2:$I$401,0)) -> 40842 | F6: =INDEX(Daten!$E$2:$E$401,MATCH($A6,Daten!$I$2:$I$401,0)) -> West | G6: =INDEX(Daten!$H$2:$H$401,MATCH($A6,Daten!$I$2:$I$401,0)) -> 2308
A7: 6 | B7: =INDEX(Daten!$A$2:$A$401,MATCH($A7,Daten!$I$2:$I$401,0)) -> München | C7: =INDEX(Daten!$B$2:$B$401,MATCH($A7,Daten!$I$2:$I$401,0)) -> Kreisfreie Stadt | D7: =INDEX(Daten!$C$2:$C$401,MATCH($A7,Daten!$I$2:$I$401,0)) -> Bayern | E7: =INDEX(Daten!$D$2:$D$401,MATCH($A7,Daten!$I$2:$I$401,0)) -> 1488202 | F7: =INDEX(Daten!$E$2:$E$401,MATCH($A7,Daten!$I$2:$I$401,0)) -> West | G7: =INDEX(Daten!$H$2:$H$401,MATCH($A7,Daten!$I$2:$I$401,0)) -> 2287
A8: 7 | B8: =INDEX(Daten!$A$2:$A$401,MATCH($A8,Daten!$I$2:$I$401,0)) -> Tirschenreuth | C8: =INDEX(Daten!$B$2:$B$401,MATCH($A8,Daten!$I$2:$I$401,0)) -> Landkreis | D8: =INDEX(Daten!$C$2:$C$401,MATCH($A8,Daten!$I$2:$I$401,0)) -> Bayern | E8: =INDEX(Daten!$D$2:$D$401,MATCH($A8,Daten!$I$2:$I$401,0)) -> 71696 | F8: =INDEX(Daten!$E$2:$E$401,MATCH($A8,Daten!$I$2:$I$401,0)) -> West | G8: =INDEX(Daten!$H$2:$H$401,MATCH($A8,Daten!$I$2:$I$401,0)) -> 2246
A9: 8 | B9: =INDEX(Daten!$A$2:$A$401,MATCH($A9,Daten!$I$2:$I$401,0)) -> Wolfsburg | C9: =INDEX(Daten!$B$2:$B$401,MATCH($A9,Daten!$I$2:$I$401,0)) -> Kreisfreie Stadt | D9: =INDEX(Daten!$C$2:$C$401,MATCH($A9,Daten!$I$2:$I$401,0)) -> Niedersachsen | E9: =INDEX(Daten!$D$2:$D$401,MATCH($A9,Daten!$I$2:$I$401,0)) -> 123840 | F9: =INDEX(Daten!$E$2:$E$401,MATCH($A9,Daten!$I$2:$I$401,0)) -> West | G9: =INDEX(Daten!$H$2:$H$401,MATCH($A9,Daten!$I$2:$I$401,0)) -> 2053
A10: 9 | B10: =INDEX(Daten!$A$2:$A$401,MATCH($A10,Daten!$I$2:$I$401,0)) -> Böblingen | C10: =INDEX(Daten!$B$2:$B$401,MATCH($A10,Daten!$I$2:$I$401,0)) -> Landkreis | D10: =INDEX(Daten!$C$2:$C$401,MATCH($A10,Daten!$I$2:$I$401,0)) -> Baden-Württemberg | E10: =INDEX(Daten!$D$2:$D$401,MATCH($A10,Daten!$I$2:$I$401,0)) -> 392898 | F10: =INDEX(Daten!$E$2:$E$401,MATCH($A10,Daten!$I$2:$I$401,0)) -> West | G10: =INDEX(Daten!$H$2:$H$401,MATCH($A10,Daten!$I$2:$I$401,0)) -> 2053
A11: 10 | B11: =INDEX(Daten!$A$2:$A$401,MATCH($A11,Daten!$I$2:$I$401,0)) -> Hamburg | C11: =INDEX(Daten!$B$2:$B$401,MATCH($A11,Daten!$I$2:$I$401,0)) -> Kreisfreie Stadt | D11: =INDEX(Daten!$C$2:$C$401,MATCH($A11,Daten!$I$2:$I$401,0)) -> Hamburg | E11: =INDEX(Daten!$D$2:$D$401,MATCH($A11,Daten!$I$2:$I$401,0)) -> 1852478 | F11: =INDEX(Daten!$E$2:$E$401,MATCH($A11,Daten!$I$2:$I$401,0)) -> West | G11: =INDEX(Daten!$H$2:$H$401,MATCH($A11,Daten!$I$2:$I$401,0)) -> 1883
A12: 11 | B12: =INDEX(Daten!$A$2:$A$401,MATCH($A12,Daten!$I$2:$I$401,0)) -> Erlangen | C12: =INDEX(Daten!$B$2:$B$401,MATCH($A12,Daten!$I$2:$I$401,0)) -> Kreisfreie Stadt | D12: =INDEX(Daten!$C$2:$C$401,MATCH($A12,Daten!$I$2:$I$401,0)) -> Bayern | E12: =INDEX(Daten!$D$2:$D$401,MATCH($A12,Daten!$I$2:$I$401,0)) -> 112385 | F12: =INDEX(Daten!$E$2:$E$401,MATCH($A12,Daten!$I$2:$I$401,0)) -> West | G12: =INDEX(Daten!$H$2:$H$401,MATCH($A12,Daten!$I$2:$I$401,0)) -> 1861
A13: 12 | B13: =INDEX(Daten!$A$2:$A$401,MATCH($A13,Daten!$I$2:$I$401,0)) -> Main-Taunus-Kreis | C13: =INDEX(Daten!$B$2:$B$401,MATCH($A13,Daten!$I$2:$I$401,0)) -> Landkreis | D13: =INDEX(Daten!$C$2:$C$401,MATCH($A13,Daten!$I$2:$I$401,0)) -> Hessen | E13: =INDEX(Daten!$D$2:$D$401,MATCH($A13,Daten!$I$2:$I$401,0)) -> 239264 | F13: =INDEX(Daten!$E$2:$E$401,MATCH($A13,Daten!$I$2:$I$401,0)) -> West | G13: =INDEX(Daten!$H$2:$H$401,MATCH($A13,Daten!$I$2:$I$401,0)) -> 1726
... A401: 400 | B401: =INDEX(Daten!$A$2:$A$401,MATCH($A401,Daten!$I$2:$I$401,0)) -> Ansbach | C401: =INDEX(Daten!$B$2:$B$401,MATCH($A401,Daten!$I$2:$I$401,0)) -> Kreisfreie Stadt | D401: =INDEX(Daten!$C$2:$C$401,MATCH($A401,Daten!$I$2:$I$401,0)) -> Bayern | E401: =INDEX(Daten!$D$2:$D$401,MATCH($A401,Daten!$I$2:$I$401,0)) -> 185316 | F401: =INDEX(Daten!$E$2:$E$401,MATCH($A401,Daten!$I$2:$I$401,0)) -> West | G401: =INDEX(Daten!$H$2:$H$401,MATCH($A401,Daten!$I$2:$I$401,0)) -> 121

Sheet Komm. Schulden je Kopf
A1: Platz | B1: Kreis | C1: Typ | D1: Bundesland | E1: Einwohner | F1: Region | G1: Komm. Schulden je Kopf
A2: 1 | B2: =INDEX(Daten!$A$2:$A$401,MATCH($A2,Daten!$K$2:$K$401,0)) -> Bremerhaven | C2: =INDEX(Daten!$B$2:$B$401,MATCH($A2,Daten!$K$2:$K$401,0)) -> Kreisfreie Stadt | D2: =INDEX(Daten!$C$2:$C$401,MATCH($A2,Daten!$K$2:$K$401,0)) -> Bremen | E2: =INDEX(Daten!$D$2:$D$401,MATCH($A2,Daten!$K$2:$K$401,0)) -> 113557 | F2: =INDEX(Daten!$E$2:$E$401,MATCH($A2,Daten!$K$2:$K$401,0)) -> West | G2: =INDEX(Daten!$J$2:$J$401,MATCH($A2,Daten!$K$2:$K$401,0)) -> 19.02
A3: 2 | B3: =INDEX(Daten!$A$2:$A$401,MATCH($A3,Daten!$K$2:$K$401,0)) -> Pirmasens | C3: =INDEX(Daten!$B$2:$B$401,MATCH($A3,Daten!$K$2:$K$401,0)) -> Kreisfreie Stadt | D3: =INDEX(Daten!$C$2:$C$401,MATCH($A3,Daten!$K$2:$K$401,0)) -> Rheinland-Pfalz | E3: =INDEX(Daten!$D$2:$D$401,MATCH($A3,Daten!$K$2:$K$401,0)) -> 40176 | F3: =INDEX(Daten!$E$2:$E$401,MATCH($A3,Daten!$K$2:$K$401,0)) -> West | G3: =INDEX(Daten!$J$2:$J$401,MATCH($A3,Daten!$K$2:$K$401,0)) -> 16.72
A4: 3 | B4: =INDEX(Daten!$A$2:$A$401,MATCH($A4,Daten!$K$2:$K$401,0)) -> Gelsenkirchen | C4: =INDEX(Daten!$B$2:$B$401,MATCH($A4,Daten!$K$2:$K$401,0)) -> Kreisfreie Stadt | D4: =INDEX(Daten!$C$2:$C$401,MATCH($A4,Daten!$K$2:$K$401,0)) -> Nordrhein-Westfalen | E4: =INDEX(Daten!$D$2:$D$401,MATCH($A4,Daten!$K$2:$K$401,0)) -> 259105 | F4: =INDEX(Daten!$E$2:$E$401,MATCH($A4,Daten!$K$2:$K$401,0)) -> West | G4: =INDEX(Daten!$J$2:$J$401,MATCH($A4,Daten!$K$2:$K$401,0)) -> 16.62
A5: 4 | B5: =INDEX(Daten!$A$2:$A$401,MATCH($A5,Daten!$K$2:$K$401,0)) -> Neumünster | C5: =INDEX(Daten!$B$2:$B$401,MATCH($A5,Daten!$K$2:$K$401,0)) -> Kreisfreie Stadt | D5: =INDEX(Daten!$C$2:$C$401,MATCH($A5,Daten!$K$2:$K$401,0)) -> Schleswig-Holstein | E5: =INDEX(Daten!$D$2:$D$401,MATCH($A5,Daten!$K$2:$K$401,0)) -> 79905 | F5: =INDEX(Daten!$E$2:$E$401,MATCH($A5,Daten!$K$2:$K$401,0)) -> West | G5: =INDEX(Daten!$J$2:$J$401,MATCH($A5,Daten!$K$2:$K$401,0)) -> 16.02
A6: 5 | B6: =INDEX(Daten!$A$2:$A$401,MATCH($A6,Daten!$K$2:$K$401,0)) -> Duisburg | C6: =INDEX(Daten!$B$2:$B$401,MATCH($A6,Daten!$K$2:$K$401,0)) -> Kreisfreie Stadt | D6: =INDEX(Daten!$C$2:$C$401,MATCH($A6,Daten!$K$2:$K$401,0)) -> Nordrhein-Westfalen | E6: =INDEX(Daten!$D$2:$D$401,MATCH($A6,Daten!$K$2:$K$401,0)) -> 495885 | F6: =INDEX(Daten!$E$2:$E$401,MATCH($A6,Daten!$K$2:$K$401,0)) -> West | G6: =INDEX(Daten!$J$2:$J$401,MATCH($A6,Daten!$K$2:$K$401,0)) -> 15.89
A7: 6 | B7: =INDEX(Daten!$A$2:$A$401,MATCH($A7,Daten!$K$2:$K$401,0)) -> Herne | C7: =INDEX(Daten!$B$2:$B$401,MATCH($A7,Daten!$K$2:$K$401,0)) -> Kreisfreie Stadt | D7: =INDEX(Daten!$C$2:$C$401,MATCH($A7,Daten!$K$2:$K$401,0)) -> Nordrhein-Westfalen | E7: =INDEX(Daten!$D$2:$D$401,MATCH($A7,Daten!$K$2:$K$401,0)) -> 156940 | F7: =INDEX(Daten!$E$2:$E$401,MATCH($A7,Daten!$K$2:$K$401,0)) -> West | G7: =INDEX(Daten!$J$2:$J$401,MATCH($A7,Daten!$K$2:$K$401,0)) -> 15.63
A8: 7 | B8: =INDEX(Daten!$A$2:$A$401,MATCH($A8,Daten!$K$2:$K$401,0)) -> Hagen | C8: =INDEX(Daten!$B$2:$B$401,MATCH($A8,Daten!$K$2:$K$401,0)) -> Kreisfreie Stadt | D8: =INDEX(Daten!$C$2:$C$401,MATCH($A8,Daten!$K$2:$K$401,0)) -> Nordrhein-Westfalen | E8: =INDEX(Daten!$D$2:$D$401,MATCH($A8,Daten!$K$2:$K$401,0)) -> 188687 | F8: =INDEX(Daten!$E$2:$E$401,MATCH($A8,Daten!$K$2:$K$401,0)) -> West | G8: =INDEX(Daten!$J$2:$J$401,MATCH($A8,Daten!$K$2:$K$401,0)) -> 14.98
A9: 8 | B9: =INDEX(Daten!$A$2:$A$401,MATCH($A9,Daten!$K$2:$K$401,0)) -> Wilhelmshaven | C9: =INDEX(Daten!$B$2:$B$401,MATCH($A9,Daten!$K$2:$K$401,0)) -> Kreisfreie Stadt | D9: =INDEX(Daten!$C$2:$C$401,MATCH($A9,Daten!$K$2:$K$401,0)) -> Niedersachsen | E9: =INDEX(Daten!$D$2:$D$401,MATCH($A9,Daten!$K$2:$K$401,0)) -> 75189 | F9: =INDEX(Daten!$E$2:$E$401,MATCH($A9,Daten!$K$2:$K$401,0)) -> West | G9: =INDEX(Daten!$J$2:$J$401,MATCH($A9,Daten!$K$2:$K$401,0)) -> 14.75
A10: 9 | B10: =INDEX(Daten!$A$2:$A$401,MATCH($A10,Daten!$K$2:$K$401,0)) -> Wuppertal | C10: =INDEX(Daten!$B$2:$B$401,MATCH($A10,Daten!$K$2:$K$401,0)) -> Kreisfreie Stadt | D10: =INDEX(Daten!$C$2:$C$401,MATCH($A10,Daten!$K$2:$K$401,0)) -> Nordrhein-Westfalen | E10: =INDEX(Daten!$D$2:$D$401,MATCH($A10,Daten!$K$2:$K$401,0)) -> 355004 | F10: =INDEX(Daten!$E$2:$E$401,MATCH($A10,Daten!$K$2:$K$401,0)) -> West | G10: =INDEX(Daten!$J$2:$J$401,MATCH($A10,Daten!$K$2:$K$401,0)) -> 14.54
A11: 10 | B11: =INDEX(Daten!$A$2:$A$401,MATCH($A11,Daten!$K$2:$K$401,0)) -> Halle (Saale) | C11: =INDEX(Daten!$B$2:$B$401,MATCH($A11,Daten!$K$2:$K$401,0)) -> Kreisfreie Stadt | D11: =INDEX(Daten!$C$2:$C$401,MATCH($A11,Daten!$K$2:$K$401,0)) -> Sachsen-Anhalt | E11: =INDEX(Daten!$D$2:$D$401,MATCH($A11,Daten!$K$2:$K$401,0)) -> 237865 | F11: =INDEX(Daten!$E$2:$E$401,MATCH($A11,Daten!$K$2:$K$401,0)) -> Ost | G11: =INDEX(Daten!$J$2:$J$401,MATCH($A11,Daten!$K$2:$K$401,0)) -> 14.34
A12: 11 | B12: =INDEX(Daten!$A$2:$A$401,MATCH($A12,Daten!$K$2:$K$401,0)) -> Ludwigshafen am Rhein | C12: =INDEX(Daten!$B$2:$B$401,MATCH($A12,Daten!$K$2:$K$401,0)) -> Kreisfreie Stadt | D12: =INDEX(Daten!$C$2:$C$401,MATCH($A12,Daten!$K$2:$K$401,0)) -> Rheinland-Pfalz | E12: =INDEX(Daten!$D$2:$D$401,MATCH($A12,Daten!$K$2:$K$401,0)) -> 172557 | F12: =INDEX(Daten!$E$2:$E$401,MATCH($A12,Daten!$K$2:$K$401,0)) -> West | G12: =INDEX(Daten!$J$2:$J$401,MATCH($A12,Daten!$K$2:$K$401,0)) -> 14.28
A13: 12 | B13: =INDEX(Daten!$A$2:$A$401,MATCH($A13,Daten!$K$2:$K$401,0)) -> Mönchengladbach | C13: =INDEX(Daten!$B$2:$B$401,MATCH($A13,Daten!$K$2:$K$401,0)) -> Kreisfreie Stadt | D13: =INDEX(Daten!$C$2:$C$401,MATCH($A13,Daten!$K$2:$K$401,0)) -> Nordrhein-Westfalen | E13: =INDEX(Daten!$D$2:$D$401,MATCH($A13,Daten!$K$2:$K$401,0)) -> 259665 | F13: =INDEX(Daten!$E$2:$E$401,MATCH($A13,Daten!$K$2:$K$401,0)) -> West | G13: =INDEX(Daten!$J$2:$J$401,MATCH($A13,Daten!$K$2:$K$401,0)) -> 14.15
... A401: 400 | B401: =INDEX(Daten!$A$2:$A$401,MATCH($A401,Daten!$K$2:$K$401,0)) -> Eichstätt | C401: =INDEX(Daten!$B$2:$B$401,MATCH($A401,Daten!$K$2:$K$401,0)) -> Landkreis | D401: =INDEX(Daten!$C$2:$C$401,MATCH($A401,Daten!$K$2:$K$401,0)) -> Bayern | E401: =INDEX(Daten!$D$2:$D$401,MATCH($A401,Daten!$K$2:$K$401,0)) -> 133169 | F401: =INDEX(Daten!$E$2:$E$401,MATCH($A401,Daten!$K$2:$K$401,0)) -> West | G401: =INDEX(Daten!$J$2:$J$401,MATCH($A401,Daten!$K$2:$K$401,0)) -> 3.54

Sheet Industrieanteil
A1: Platz | B1: Kreis | C1: Typ | D1: Bundesland | E1: Einwohner | F1: Region | G1: Industrieanteil
A2: 1 | B2: =INDEX(Daten!$A$2:$A$401,MATCH($A2,Daten!$AG$2:$AG$401,0)) -> Tuttlingen | C2: =INDEX(Daten!$B$2:$B$401,MATCH($A2,Daten!$AG$2:$AG$401,0)) -> Landkreis | D2: =INDEX(Daten!$C$2:$C$401,MATCH($A2,Daten!$AG$2:$AG$401,0)) -> Baden-Württemberg | E2: =INDEX(Daten!$D$2:$D$401,MATCH($A2,Daten!$AG$2:$AG$401,0)) -> 141682 | F2: =INDEX(Daten!$E$2:$E$401,MATCH($A2,Daten!$AG$2:$AG$401,0)) -> West | G2: =INDEX(Daten!$AF$2:$AF$401,MATCH($A2,Daten!$AG$2:$AG$401,0)) -> 61.4
A3: 2 | B3: =INDEX(Daten!$A$2:$A$401,MATCH($A3,Daten!$AG$2:$AG$401,0)) -> Wolfsburg | C3: =INDEX(Daten!$B$2:$B$401,MATCH($A3,Daten!$AG$2:$AG$401,0)) -> Kreisfreie Stadt | D3: =INDEX(Daten!$C$2:$C$401,MATCH($A3,Daten!$AG$2:$AG$401,0)) -> Niedersachsen | E3: =INDEX(Daten!$D$2:$D$401,MATCH($A3,Daten!$AG$2:$AG$401,0)) -> 123840 | F3: =INDEX(Daten!$E$2:$E$401,MATCH($A3,Daten!$AG$2:$AG$401,0)) -> West | G3: =INDEX(Daten!$AF$2:$AF$401,MATCH($A3,Daten!$AG$2:$AG$401,0)) -> 60.5
A4: 3 | B4: =INDEX(Daten!$A$2:$A$401,MATCH($A4,Daten!$AG$2:$AG$401,0)) -> Dingolfing-Landau | C4: =INDEX(Daten!$B$2:$B$401,MATCH($A4,Daten!$AG$2:$AG$401,0)) -> Landkreis | D4: =INDEX(Daten!$C$2:$C$401,MATCH($A4,Daten!$AG$2:$AG$401,0)) -> Bayern | E4: =INDEX(Daten!$D$2:$D$401,MATCH($A4,Daten!$AG$2:$AG$401,0)) -> 97244 | F4: =INDEX(Daten!$E$2:$E$401,MATCH($A4,Daten!$AG$2:$AG$401,0)) -> West | G4: =INDEX(Daten!$AF$2:$AF$401,MATCH($A4,Daten!$AG$2:$AG$401,0)) -> 58.4
A5: 4 | B5: =INDEX(Daten!$A$2:$A$401,MATCH($A5,Daten!$AG$2:$AG$401,0)) -> Salzgitter | C5: =INDEX(Daten!$B$2:$B$401,MATCH($A5,Daten!$AG$2:$AG$401,0)) -> Kreisfreie Stadt | D5: =INDEX(Daten!$C$2:$C$401,MATCH($A5,Daten!$AG$2:$AG$401,0)) -> Niedersachsen | E5: =INDEX(Daten!$D$2:$D$401,MATCH($A5,Daten!$AG$2:$AG$401,0)) -> 103866 | F5: =INDEX(Daten!$E$2:$E$401,MATCH($A5,Daten!$AG$2:$AG$401,0)) -> West | G5: =INDEX(Daten!$AF$2:$AF$401,MATCH($A5,Daten!$AG$2:$AG$401,0)) -> 55.7
A6: 5 | B6: =INDEX(Daten!$A$2:$A$401,MATCH($A6,Daten!$AG$2:$AG$401,0)) -> Biberach | C6: =INDEX(Daten!$B$2:$B$401,MATCH($A6,Daten!$AG$2:$AG$401,0)) -> Landkreis | D6: =INDEX(Daten!$C$2:$C$401,MATCH($A6,Daten!$AG$2:$AG$401,0)) -> Baden-Württemberg | E6: =INDEX(Daten!$D$2:$D$401,MATCH($A6,Daten!$AG$2:$AG$401,0)) -> 202250 | F6: =INDEX(Daten!$E$2:$E$401,MATCH($A6,Daten!$AG$2:$AG$401,0)) -> West | G6: =INDEX(Daten!$AF$2:$AF$401,MATCH($A6,Daten!$AG$2:$AG$401,0)) -> 54
A7: 6 | B7: =INDEX(Daten!$A$2:$A$401,MATCH($A7,Daten!$AG$2:$AG$401,0)) -> Kronach | C7: =INDEX(Daten!$B$2:$B$401,MATCH($A7,Daten!$AG$2:$AG$401,0)) -> Landkreis | D7: =INDEX(Daten!$C$2:$C$401,MATCH($A7,Daten!$AG$2:$AG$401,0)) -> Bayern | E7: =INDEX(Daten!$D$2:$D$401,MATCH($A7,Daten!$AG$2:$AG$401,0)) -> 66355 | F7: =INDEX(Daten!$E$2:$E$401,MATCH($A7,Daten!$AG$2:$AG$401,0)) -> West | G7: =INDEX(Daten!$AF$2:$AF$401,MATCH($A7,Daten!$AG$2:$AG$401,0)) -> 53
A8: 7 | B8: =INDEX(Daten!$A$2:$A$401,MATCH($A8,Daten!$AG$2:$AG$401,0)) -> Unterallgäu | C8: =INDEX(Daten!$B$2:$B$401,MATCH($A8,Daten!$AG$2:$AG$401,0)) -> Landkreis | D8: =INDEX(Daten!$C$2:$C$401,MATCH($A8,Daten!$AG$2:$AG$401,0)) -> Bayern | E8: =INDEX(Daten!$D$2:$D$401,MATCH($A8,Daten!$AG$2:$AG$401,0)) -> 146164 | F8: =INDEX(Daten!$E$2:$E$401,MATCH($A8,Daten!$AG$2:$AG$401,0)) -> West | G8: =INDEX(Daten!$AF$2:$AF$401,MATCH($A8,Daten!$AG$2:$AG$401,0)) -> 52.7
A9: 8 | B9: =INDEX(Daten!$A$2:$A$401,MATCH($A9,Daten!$AG$2:$AG$401,0)) -> Main-Spessart | C9: =INDEX(Daten!$B$2:$B$401,MATCH($A9,Daten!$AG$2:$AG$401,0)) -> Landkreis | D9: =INDEX(Daten!$C$2:$C$401,MATCH($A9,Daten!$AG$2:$AG$401,0)) -> Bayern | E9: =INDEX(Daten!$D$2:$D$401,MATCH($A9,Daten!$AG$2:$AG$401,0)) -> 125976 | F9: =INDEX(Daten!$E$2:$E$401,MATCH($A9,Daten!$AG$2:$AG$401,0)) -> West | G9: =INDEX(Daten!$AF$2:$AF$401,MATCH($A9,Daten!$AG$2:$AG$401,0)) -> 52.6
A10: 9 | B10: =INDEX(Daten!$A$2:$A$401,MATCH($A10,Daten!$AG$2:$AG$401,0)) -> Olpe | C10: =INDEX(Daten!$B$2:$B$401,MATCH($A10,Daten!$AG$2:$AG$401,0)) -> Landkreis | D10: =INDEX(Daten!$C$2:$C$401,MATCH($A10,Daten!$AG$2:$AG$401,0)) -> Nordrhein-Westfalen | E10: =INDEX(Daten!$D$2:$D$401,MATCH($A10,Daten!$AG$2:$AG$401,0)) -> 133362 | F10: =INDEX(Daten!$E$2:$E$401,MATCH($A10,Daten!$AG$2:$AG$401,0)) -> West | G10: =INDEX(Daten!$AF$2:$AF$401,MATCH($A10,Daten!$AG$2:$AG$401,0)) -> 52.2
A11: 10 | B11: =INDEX(Daten!$A$2:$A$401,MATCH($A11,Daten!$AG$2:$AG$401,0)) -> Rottweil | C11: =INDEX(Daten!$B$2:$B$401,MATCH($A11,Daten!$AG$2:$AG$401,0)) -> Landkreis | D11: =INDEX(Daten!$C$2:$C$401,MATCH($A11,Daten!$AG$2:$AG$401,0)) -> Baden-Württemberg | E11: =INDEX(Daten!$D$2:$D$401,MATCH($A11,Daten!$AG$2:$AG$401,0)) -> 140166 | F11: =INDEX(Daten!$E$2:$E$401,MATCH($A11,Daten!$AG$2:$AG$401,0)) -> West | G11: =INDEX(Daten!$AF$2:$AF$401,MATCH($A11,Daten!$AG$2:$AG$401,0)) -> 51.1
A12: 11 | B12: =INDEX(Daten!$A$2:$A$401,MATCH($A12,Daten!$AG$2:$AG$401,0)) -> Enzkreis | C12: =INDEX(Daten!$B$2:$B$401,MATCH($A12,Daten!$AG$2:$AG$401,0)) -> Landkreis | D12: =INDEX(Daten!$C$2:$C$401,MATCH($A12,Daten!$AG$2:$AG$401,0)) -> Baden-Württemberg | E12: =INDEX(Daten!$D$2:$D$401,MATCH($A12,Daten!$AG$2:$AG$401,0)) -> 199752 | F12: =INDEX(Daten!$E$2:$E$401,MATCH($A12,Daten!$AG$2:$AG$401,0)) -> West | G12: =INDEX(Daten!$AF$2:$AF$401,MATCH($A12,Daten!$AG$2:$AG$401,0)) -> 50.9
A13: 12 | B13: =INDEX(Daten!$A$2:$A$401,MATCH($A13,Daten!$AG$2:$AG$401,0)) -> Altötting | C13: =INDEX(Daten!$B$2:$B$401,MATCH($A13,Daten!$AG$2:$AG$401,0)) -> Landkreis | D13: =INDEX(Daten!$C$2:$C$401,MATCH($A13,Daten!$AG$2:$AG$401,0)) -> Bayern | E13: =INDEX(Daten!$D$2:$D$401,MATCH($A13,Daten!$AG$2:$AG$401,0)) -> 111654 | F13: =INDEX(Daten!$E$2:$E$401,MATCH($A13,Daten!$AG$2:$AG$401,0)) -> West | G13: =INDEX(Daten!$AF$2:$AF$401,MATCH($A13,Daten!$AG$2:$AG$401,0)) -> 50.8
... A401: 400 | B401: =INDEX(Daten!$A$2:$A$401,MATCH($A401,Daten!$AG$2:$AG$401,0)) -> Weimar | C401: =INDEX(Daten!$B$2:$B$401,MATCH($A401,Daten!$AG$2:$AG$401,0)) -> Kreisfreie Stadt | D401: =INDEX(Daten!$C$2:$C$401,MATCH($A401,Daten!$AG$2:$AG$401,0)) -> Thüringen | E401: =INDEX(Daten!$D$2:$D$401,MATCH($A401,Daten!$AG$2:$AG$401,0)) -> 65098 | F401: =INDEX(Daten!$E$2:$E$401,MATCH($A401,Daten!$AG$2:$AG$401,0)) -> Ost | G401: =INDEX(Daten!$AF$2:$AF$401,MATCH($A401,Daten!$AG$2:$AG$401,0)) -> 0

Sheet Landwirtschaftsanteil
A1: Platz | B1: Kreis | C1: Typ | D1: Bundesland | E1: Einwohner | F1: Region | G1: Landwirtschaftsanteil
A2: 1 | B2: =INDEX(Daten!$A$2:$A$401,MATCH($A2,Daten!$AI$2:$AI$401,0)) -> Rhein-Pfalz-Kreis | C2: =INDEX(Daten!$B$2:$B$401,MATCH($A2,Daten!$AI$2:$AI$401,0)) -> Landkreis | D2: =INDEX(Daten!$C$2:$C$401,MATCH($A2,Daten!$AI$2:$AI$401,0)) -> Rheinland-Pfalz | E2: =INDEX(Daten!$D$2:$D$401,MATCH($A2,Daten!$AI$2:$AI$401,0)) -> 154754 | F2: =INDEX(Daten!$E$2:$E$401,MATCH($A2,Daten!$AI$2:$AI$401,0)) -> West | G2: =INDEX(Daten!$AH$2:$AH$401,MATCH($A2,Daten!$AI$2:$AI$401,0)) -> 10.7
A3: 2 | B3: =INDEX(Daten!$A$2:$A$401,MATCH($A3,Daten!$AI$2:$AI$401,0)) -> Ludwigslust-Parchim | C3: =INDEX(Daten!$B$2:$B$401,MATCH($A3,Daten!$AI$2:$AI$401,0)) -> Landkreis | D3: =INDEX(Daten!$C$2:$C$401,MATCH($A3,Daten!$AI$2:$AI$401,0)) -> Mecklenburg-Vorpommern | E3: =INDEX(Daten!$D$2:$D$401,MATCH($A3,Daten!$AI$2:$AI$401,0)) -> 211844 | F3: =INDEX(Daten!$E$2:$E$401,MATCH($A3,Daten!$AI$2:$AI$401,0)) -> Ost | G3: =INDEX(Daten!$AH$2:$AH$401,MATCH($A3,Daten!$AI$2:$AI$401,0)) -> 5.5
A4: 3 | B4: =INDEX(Daten!$A$2:$A$401,MATCH($A4,Daten!$AI$2:$AI$401,0)) -> Ammerland | C4: =INDEX(Daten!$B$2:$B$401,MATCH($A4,Daten!$AI$2:$AI$401,0)) -> Landkreis | D4: =INDEX(Daten!$C$2:$C$401,MATCH($A4,Daten!$AI$2:$AI$401,0)) -> Niedersachsen | E4: =INDEX(Daten!$D$2:$D$401,MATCH($A4,Daten!$AI$2:$AI$401,0)) -> 125643 | F4: =INDEX(Daten!$E$2:$E$401,MATCH($A4,Daten!$AI$2:$AI$401,0)) -> West | G4: =INDEX(Daten!$AH$2:$AH$401,MATCH($A4,Daten!$AI$2:$AI$401,0)) -> 5.4
A5: 4 | B5: =INDEX(Daten!$A$2:$A$401,MATCH($A5,Daten!$AI$2:$AI$401,0)) -> Northeim | C5: =INDEX(Daten!$B$2:$B$401,MATCH($A5,Daten!$AI$2:$AI$401,0)) -> Landkreis | D5: =INDEX(Daten!$C$2:$C$401,MATCH($A5,Daten!$AI$2:$AI$401,0)) -> Niedersachsen | E5: =INDEX(Daten!$D$2:$D$401,MATCH($A5,Daten!$AI$2:$AI$401,0)) -> 131772 | F5: =INDEX(Daten!$E$2:$E$401,MATCH($A5,Daten!$AI$2:$AI$401,0)) -> West | G5: =INDEX(Daten!$AH$2:$AH$401,MATCH($A5,Daten!$AI$2:$AI$401,0)) -> 5.2
A6: 5 | B6: =INDEX(Daten!$A$2:$A$401,MATCH($A6,Daten!$AI$2:$AI$401,0)) -> Altmarkkreis Salzwedel | C6: =INDEX(Daten!$B$2:$B$401,MATCH($A6,Daten!$AI$2:$AI$401,0)) -> Landkreis | D6: =INDEX(Daten!$C$2:$C$401,MATCH($A6,Daten!$AI$2:$AI$401,0)) -> Sachsen-Anhalt | E6: =INDEX(Daten!$D$2:$D$401,MATCH($A6,Daten!$AI$2:$AI$401,0)) -> 82687 | F6: =INDEX(Daten!$E$2:$E$401,MATCH($A6,Daten!$AI$2:$AI$401,0)) -> Ost | G6: =INDEX(Daten!$AH$2:$AH$401,MATCH($A6,Daten!$AI$2:$AI$401,0)) -> 5.1
A7: 6 | B7: =INDEX(Daten!$A$2:$A$401,MATCH($A7,Daten!$AI$2:$AI$401,0)) -> Saale-Orla-Kreis | C7: =INDEX(Daten!$B$2:$B$401,MATCH($A7,Daten!$AI$2:$AI$401,0)) -> Landkreis | D7: =INDEX(Daten!$C$2:$C$401,MATCH($A7,Daten!$AI$2:$AI$401,0)) -> Thüringen | E7: =INDEX(Daten!$D$2:$D$401,MATCH($A7,Daten!$AI$2:$AI$401,0)) -> 79632 | F7: =INDEX(Daten!$E$2:$E$401,MATCH($A7,Daten!$AI$2:$AI$401,0)) -> Ost | G7: =INDEX(Daten!$AH$2:$AH$401,MATCH($A7,Daten!$AI$2:$AI$401,0)) -> 4.9
A8: 7 | B8: =INDEX(Daten!$A$2:$A$401,MATCH($A8,Daten!$AI$2:$AI$401,0)) -> Kleve | C8: =INDEX(Daten!$B$2:$B$401,MATCH($A8,Daten!$AI$2:$AI$401,0)) -> Landkreis | D8: =INDEX(Daten!$C$2:$C$401,MATCH($A8,Daten!$AI$2:$AI$401,0)) -> Nordrhein-Westfalen | E8: =INDEX(Daten!$D$2:$D$401,MATCH($A8,Daten!$AI$2:$AI$401,0)) -> 313586 | F8: =INDEX(Daten!$E$2:$E$401,MATCH($A8,Daten!$AI$2:$AI$401,0)) -> West | G8: =INDEX(Daten!$AH$2:$AH$401,MATCH($A8,Daten!$AI$2:$AI$401,0)) -> 4.7
A9: 8 | B9: =INDEX(Daten!$A$2:$A$401,MATCH($A9,Daten!$AI$2:$AI$401,0)) -> Prignitz | C9: =INDEX(Daten!$B$2:$B$401,MATCH($A9,Daten!$AI$2:$AI$401,0)) -> Landkreis | D9: =INDEX(Daten!$C$2:$C$401,MATCH($A9,Daten!$AI$2:$AI$401,0)) -> Brandenburg | E9: =INDEX(Daten!$D$2:$D$401,MATCH($A9,Daten!$AI$2:$AI$401,0)) -> 76096 | F9: =INDEX(Daten!$E$2:$E$401,MATCH($A9,Daten!$AI$2:$AI$401,0)) -> Ost | G9: =INDEX(Daten!$AH$2:$AH$401,MATCH($A9,Daten!$AI$2:$AI$401,0)) -> 4.4
A10: 9 | B10: =INDEX(Daten!$A$2:$A$401,MATCH($A10,Daten!$AI$2:$AI$401,0)) -> Uckermark | C10: =INDEX(Daten!$B$2:$B$401,MATCH($A10,Daten!$AI$2:$AI$401,0)) -> Landkreis | D10: =INDEX(Daten!$C$2:$C$401,MATCH($A10,Daten!$AI$2:$AI$401,0)) -> Brandenburg | E10: =INDEX(Daten!$D$2:$D$401,MATCH($A10,Daten!$AI$2:$AI$401,0)) -> 118250 | F10: =INDEX(Daten!$E$2:$E$401,MATCH($A10,Daten!$AI$2:$AI$401,0)) -> Ost | G10: =INDEX(Daten!$AH$2:$AH$401,MATCH($A10,Daten!$AI$2:$AI$401,0)) -> 4.4
A11: 10 | B11: =INDEX(Daten!$A$2:$A$401,MATCH($A11,Daten!$AI$2:$AI$401,0)) -> Elbe-Elster | C11: =INDEX(Daten!$B$2:$B$401,MATCH($A11,Daten!$AI$2:$AI$401,0)) -> Landkreis | D11: =INDEX(Daten!$C$2:$C$401,MATCH($A11,Daten!$AI$2:$AI$401,0)) -> Brandenburg | E11: =INDEX(Daten!$D$2:$D$401,MATCH($A11,Daten!$AI$2:$AI$401,0)) -> 101085 | F11: =INDEX(Daten!$E$2:$E$401,MATCH($A11,Daten!$AI$2:$AI$401,0)) -> Ost | G11: =INDEX(Daten!$AH$2:$AH$401,MATCH($A11,Daten!$AI$2:$AI$401,0)) -> 4.3
A12: 11 | B12: =INDEX(Daten!$A$2:$A$401,MATCH($A12,Daten!$AI$2:$AI$401,0)) -> Dithmarschen | C12: =INDEX(Daten!$B$2:$B$401,MATCH($A12,Daten!$AI$2:$AI$401,0)) -> Landkreis | D12: =INDEX(Daten!$C$2:$C$401,MATCH($A12,Daten!$AI$2:$AI$401,0)) -> Schleswig-Holstein | E12: =INDEX(Daten!$D$2:$D$401,MATCH($A12,Daten!$AI$2:$AI$401,0)) -> 133251 | F12: =INDEX(Daten!$E$2:$E$401,MATCH($A12,Daten!$AI$2:$AI$401,0)) -> West | G12: =INDEX(Daten!$AH$2:$AH$401,MATCH($A12,Daten!$AI$2:$AI$401,0)) -> 4.2
A13: 12 | B13: =INDEX(Daten!$A$2:$A$401,MATCH($A13,Daten!$AI$2:$AI$401,0)) -> Bad Dürkheim | C13: =INDEX(Daten!$B$2:$B$401,MATCH($A13,Daten!$AI$2:$AI$401,0)) -> Landkreis | D13: =INDEX(Daten!$C$2:$C$401,MATCH($A13,Daten!$AI$2:$AI$401,0)) -> Rheinland-Pfalz | E13: =INDEX(Daten!$D$2:$D$401,MATCH($A13,Daten!$AI$2:$AI$401,0)) -> 133004 | F13: =INDEX(Daten!$E$2:$E$401,MATCH($A13,Daten!$AI$2:$AI$401,0)) -> West | G13: =INDEX(Daten!$AH$2:$AH$401,MATCH($A13,Daten!$AI$2:$AI$401,0)) -> 4.1
... A401: 400 | B401: =INDEX(Daten!$A$2:$A$401,MATCH($A401,Daten!$AI$2:$AI$401,0)) -> Weimar | C401: =INDEX(Daten!$B$2:$B$401,MATCH($A401,Daten!$AI$2:$AI$401,0)) -> Kreisfreie Stadt | D401: =INDEX(Daten!$C$2:$C$401,MATCH($A401,Daten!$AI$2:$AI$401,0)) -> Thüringen | E401: =INDEX(Daten!$D$2:$D$401,MATCH($A401,Daten!$AI$2:$AI$401,0)) -> 65098 | F401: =INDEX(Daten!$E$2:$E$401,MATCH($A401,Daten!$AI$2:$AI$401,0)) -> Ost | G401: =INDEX(Daten!$AH$2:$AH$401,MATCH($A401,Daten!$AI$2:$AI$401,0)) -> 0

Sheet Dienstleistungsanteil
A1: Platz | B1: Kreis | C1: Typ | D1: Bundesland | E1: Einwohner | F1: Region | G1: Dienstleistungsanteil
A2: 1 | B2: =INDEX(Daten!$A$2:$A$401,MATCH($A2,Daten!$AK$2:$AK$401,0)) -> Suhl | C2: =INDEX(Daten!$B$2:$B$401,MATCH($A2,Daten!$AK$2:$AK$401,0)) -> Kreisfreie Stadt | D2: =INDEX(Daten!$C$2:$C$401,MATCH($A2,Daten!$AK$2:$AK$401,0)) -> Thüringen | E2: =INDEX(Daten!$D$2:$D$401,MATCH($A2,Daten!$AK$2:$AK$401,0)) -> 36395 | F2: =INDEX(Daten!$E$2:$E$401,MATCH($A2,Daten!$AK$2:$AK$401,0)) -> Ost | G2: =INDEX(Daten!$AJ$2:$AJ$401,MATCH($A2,Daten!$AK$2:$AK$401,0)) -> 100
A3: 2 | B3: =INDEX(Daten!$A$2:$A$401,MATCH($A3,Daten!$AK$2:$AK$401,0)) -> Weimar | C3: =INDEX(Daten!$B$2:$B$401,MATCH($A3,Daten!$AK$2:$AK$401,0)) -> Kreisfreie Stadt | D3: =INDEX(Daten!$C$2:$C$401,MATCH($A3,Daten!$AK$2:$AK$401,0)) -> Thüringen | E3: =INDEX(Daten!$D$2:$D$401,MATCH($A3,Daten!$AK$2:$AK$401,0)) -> 65098 | F3: =INDEX(Daten!$E$2:$E$401,MATCH($A3,Daten!$AK$2:$AK$401,0)) -> Ost | G3: =INDEX(Daten!$AJ$2:$AJ$401,MATCH($A3,Daten!$AK$2:$AK$401,0)) -> 100
A4: 3 | B4: =INDEX(Daten!$A$2:$A$401,MATCH($A4,Daten!$AK$2:$AK$401,0)) -> Bonn | C4: =INDEX(Daten!$B$2:$B$401,MATCH($A4,Daten!$AK$2:$AK$401,0)) -> Kreisfreie Stadt | D4: =INDEX(Daten!$C$2:$C$401,MATCH($A4,Daten!$AK$2:$AK$401,0)) -> Nordrhein-Westfalen | E4: =INDEX(Daten!$D$2:$D$401,MATCH($A4,Daten!$AK$2:$AK$401,0)) -> 330579 | F4: =INDEX(Daten!$E$2:$E$401,MATCH($A4,Daten!$AK$2:$AK$401,0)) -> West | G4: =INDEX(Daten!$AJ$2:$AJ$401,MATCH($A4,Daten!$AK$2:$AK$401,0)) -> 93.6
A5: 4 | B5: =INDEX(Daten!$A$2:$A$401,MATCH($A5,Daten!$AK$2:$AK$401,0)) -> Potsdam | C5: =INDEX(Daten!$B$2:$B$401,MATCH($A5,Daten!$AK$2:$AK$401,0)) -> Kreisfreie Stadt | D5: =INDEX(Daten!$C$2:$C$401,MATCH($A5,Daten!$AK$2:$AK$401,0)) -> Brandenburg | E5: =INDEX(Daten!$D$2:$D$401,MATCH($A5,Daten!$AK$2:$AK$401,0)) -> 182112 | F5: =INDEX(Daten!$E$2:$E$401,MATCH($A5,Daten!$AK$2:$AK$401,0)) -> Ost | G5: =INDEX(Daten!$AJ$2:$AJ$401,MATCH($A5,Daten!$AK$2:$AK$401,0)) -> 92.5
A6: 5 | B6: =INDEX(Daten!$A$2:$A$401,MATCH($A6,Daten!$AK$2:$AK$401,0)) -> Frankfurt am Main | C6: =INDEX(Daten!$B$2:$B$401,MATCH($A6,Daten!$AK$2:$AK$401,0)) -> Kreisfreie Stadt | D6: =INDEX(Daten!$C$2:$C$401,MATCH($A6,Daten!$AK$2:$AK$401,0)) -> Hessen | E6: =INDEX(Daten!$D$2:$D$401,MATCH($A6,Daten!$AK$2:$AK$401,0)) -> 764104 | F6: =INDEX(Daten!$E$2:$E$401,MATCH($A6,Daten!$AK$2:$AK$401,0)) -> West | G6: =INDEX(Daten!$AJ$2:$AJ$401,MATCH($A6,Daten!$AK$2:$AK$401,0)) -> 90.7
A7: 6 | B7: =INDEX(Daten!$A$2:$A$401,MATCH($A7,Daten!$AK$2:$AK$401,0)) -> Cottbus | C7: =INDEX(Daten!$B$2:$B$401,MATCH($A7,Daten!$AK$2:$AK$401,0)) -> Kreisfreie Stadt | D7: =INDEX(Daten!$C$2:$C$401,MATCH($A7,Daten!$AK$2:$AK$401,0)) -> Brandenburg | E7: =INDEX(Daten!$D$2:$D$401,MATCH($A7,Daten!$AK$2:$AK$401,0)) -> 98693 | F7: =INDEX(Daten!$E$2:$E$401,MATCH($A7,Daten!$AK$2:$AK$401,0)) -> Ost | G7: =INDEX(Daten!$AJ$2:$AJ$401,MATCH($A7,Daten!$AK$2:$AK$401,0)) -> 89.2
A8: 7 | B8: =INDEX(Daten!$A$2:$A$401,MATCH($A8,Daten!$AK$2:$AK$401,0)) -> Düsseldorf | C8: =INDEX(Daten!$B$2:$B$401,MATCH($A8,Daten!$AK$2:$AK$401,0)) -> Kreisfreie Stadt | D8: =INDEX(Daten!$C$2:$C$401,MATCH($A8,Daten!$AK$2:$AK$401,0)) -> Nordrhein-Westfalen | E8: =INDEX(Daten!$D$2:$D$401,MATCH($A8,Daten!$AK$2:$AK$401,0)) -> 620523 | F8: =INDEX(Daten!$E$2:$E$401,MATCH($A8,Daten!$AK$2:$AK$401,0)) -> West | G8: =INDEX(Daten!$AJ$2:$AJ$401,MATCH($A8,Daten!$AK$2:$AK$401,0)) -> 89
A9: 8 | B9: =INDEX(Daten!$A$2:$A$401,MATCH($A9,Daten!$AK$2:$AK$401,0)) -> Halle (Saale) | C9: =INDEX(Daten!$B$2:$B$401,MATCH($A9,Daten!$AK$2:$AK$401,0)) -> Kreisfreie Stadt | D9: =INDEX(Daten!$C$2:$C$401,MATCH($A9,Daten!$AK$2:$AK$401,0)) -> Sachsen-Anhalt | E9: =INDEX(Daten!$D$2:$D$401,MATCH($A9,Daten!$AK$2:$AK$401,0)) -> 237865 | F9: =INDEX(Daten!$E$2:$E$401,MATCH($A9,Daten!$AK$2:$AK$401,0)) -> Ost | G9: =INDEX(Daten!$AJ$2:$AJ$401,MATCH($A9,Daten!$AK$2:$AK$401,0)) -> 88.9
A10: 9 | B10: =INDEX(Daten!$A$2:$A$401,MATCH($A10,Daten!$AK$2:$AK$401,0)) -> Frankfurt (Oder) | C10: =INDEX(Daten!$B$2:$B$401,MATCH($A10,Daten!$AK$2:$AK$401,0)) -> Kreisfreie Stadt | D10: =INDEX(Daten!$C$2:$C$401,MATCH($A10,Daten!$AK$2:$AK$401,0)) -> Brandenburg | E10: =INDEX(Daten!$D$2:$D$401,MATCH($A10,Daten!$AK$2:$AK$401,0)) -> 57015 | F10: =INDEX(Daten!$E$2:$E$401,MATCH($A10,Daten!$AK$2:$AK$401,0)) -> Ost | G10: =INDEX(Daten!$AJ$2:$AJ$401,MATCH($A10,Daten!$AK$2:$AK$401,0)) -> 88.5
A11: 10 | B11: =INDEX(Daten!$A$2:$A$401,MATCH($A11,Daten!$AK$2:$AK$401,0)) -> Mainz | C11: =INDEX(Daten!$B$2:$B$401,MATCH($A11,Daten!$AK$2:$AK$401,0)) -> Kreisfreie Stadt | D11: =INDEX(Daten!$C$2:$C$401,MATCH($A11,Daten!$AK$2:$AK$401,0)) -> Rheinland-Pfalz | E11: =INDEX(Daten!$D$2:$D$401,MATCH($A11,Daten!$AK$2:$AK$401,0)) -> 217123 | F11: =INDEX(Daten!$E$2:$E$401,MATCH($A11,Daten!$AK$2:$AK$401,0)) -> West | G11: =INDEX(Daten!$AJ$2:$AJ$401,MATCH($A11,Daten!$AK$2:$AK$401,0)) -> 88.2
A12: 11 | B12: =INDEX(Daten!$A$2:$A$401,MATCH($A12,Daten!$AK$2:$AK$401,0)) -> Münster | C12: =INDEX(Daten!$B$2:$B$401,MATCH($A12,Daten!$AK$2:$AK$401,0)) -> Kreisfreie Stadt | D12: =INDEX(Daten!$C$2:$C$401,MATCH($A12,Daten!$AK$2:$AK$401,0)) -> Nordrhein-Westfalen | E12: =INDEX(Daten!$D$2:$D$401,MATCH($A12,Daten!$AK$2:$AK$401,0)) -> 316403 | F12: =INDEX(Daten!$E$2:$E$401,MATCH($A12,Daten!$AK$2:$AK$401,0)) -> West | G12: =INDEX(Daten!$AJ$2:$AJ$401,MATCH($A12,Daten!$AK$2:$AK$401,0)) -> 87.8
A13: 12 | B13: =INDEX(Daten!$A$2:$A$401,MATCH($A13,Daten!$AK$2:$AK$401,0)) -> Berlin | C13: =INDEX(Daten!$B$2:$B$401,MATCH($A13,Daten!$AK$2:$AK$401,0)) -> Kreisfreie Stadt | D13: =INDEX(Daten!$C$2:$C$401,MATCH($A13,Daten!$AK$2:$AK$401,0)) -> Berlin | E13: =INDEX(Daten!$D$2:$D$401,MATCH($A13,Daten!$AK$2:$AK$401,0)) -> 3664088 | F13: =INDEX(Daten!$E$2:$E$401,MATCH($A13,Daten!$AK$2:$AK$401,0)) -> Ost | G13: =INDEX(Daten!$AJ$2:$AJ$401,MATCH($A13,Daten!$AK$2:$AK$401,0)) -> 87.5
... A401: 400 | B401: =INDEX(Daten!$A$2:$A$401,MATCH($A401,Daten!$AK$2:$AK$401,0)) -> Tuttlingen | C401: =INDEX(Daten!$B$2:$B$401,MATCH($A401,Daten!$AK$2:$AK$401,0)) -> Landkreis | D401: =INDEX(Daten!$C$2:$C$401,MATCH($A401,Daten!$AK$2:$AK$401,0)) -> Baden-Württemberg | E401: =INDEX(Daten!$D$2:$D$401,MATCH($A401,Daten!$AK$2:$AK$401,0)) -> 141682 | F401: =INDEX(Daten!$E$2:$E$401,MATCH($A401,Daten!$AK$2:$AK$401,0)) -> West | G401: =INDEX(Daten!$AJ$2:$AJ$401,MATCH($A401,Daten!$AK$2:$AK$401,0)) -> 38.4

Sheet Arbeitslosenquote
A1: Platz | B1: Kreis | C1: Typ | D1: Bundesland | E1: Einwohner | F1: Region | G1: Arbeitslosenquote
A2: 1 | B2: =INDEX(Daten!$A$2:$A$401,MATCH($A2,Daten!$M$2:$M$401,0)) -> Gelsenkirchen | C2: =INDEX(Daten!$B$2:$B$401,MATCH($A2,Daten!$M$2:$M$401,0)) -> Kreisfreie Stadt | D2: =INDEX(Daten!$C$2:$C$401,MATCH($A2,Daten!$M$2:$M$401,0)) -> Nordrhein-Westfalen | E2: =INDEX(Daten!$D$2:$D$401,MATCH($A2,Daten!$M$2:$M$401,0)) -> 259105 | F2: =INDEX(Daten!$E$2:$E$401,MATCH($A2,Daten!$M$2:$M$401,0)) -> West | G2: =INDEX(Daten!$L$2:$L$401,MATCH($A2,Daten!$M$2:$M$401,0)) -> 14.6
A3: 2 | B3: =INDEX(Daten!$A$2:$A$401,MATCH($A3,Daten!$M$2:$M$401,0)) -> Bremerhaven | C3: =INDEX(Daten!$B$2:$B$401,MATCH($A3,Daten!$M$2:$M$401,0)) -> Kreisfreie Stadt | D3: =INDEX(Daten!$C$2:$C$401,MATCH($A3,Daten!$M$2:$M$401,0)) -> Bremen | E3: =INDEX(Daten!$D$2:$D$401,MATCH($A3,Daten!$M$2:$M$401,0)) -> 113557 | F3: =INDEX(Daten!$E$2:$E$401,MATCH($A3,Daten!$M$2:$M$401,0)) -> West | G3: =INDEX(Daten!$L$2:$L$401,MATCH($A3,Daten!$M$2:$M$401,0)) -> 14.1
A4: 3 | B4: =INDEX(Daten!$A$2:$A$401,MATCH($A4,Daten!$M$2:$M$401,0)) -> Duisburg | C4: =INDEX(Daten!$B$2:$B$401,MATCH($A4,Daten!$M$2:$M$401,0)) -> Kreisfreie Stadt | D4: =INDEX(Daten!$C$2:$C$401,MATCH($A4,Daten!$M$2:$M$401,0)) -> Nordrhein-Westfalen | E4: =INDEX(Daten!$D$2:$D$401,MATCH($A4,Daten!$M$2:$M$401,0)) -> 495885 | F4: =INDEX(Daten!$E$2:$E$401,MATCH($A4,Daten!$M$2:$M$401,0)) -> West | G4: =INDEX(Daten!$L$2:$L$401,MATCH($A4,Daten!$M$2:$M$401,0)) -> 12.8
A5: 4 | B5: =INDEX(Daten!$A$2:$A$401,MATCH($A5,Daten!$M$2:$M$401,0)) -> Dortmund | C5: =INDEX(Daten!$B$2:$B$401,MATCH($A5,Daten!$M$2:$M$401,0)) -> Kreisfreie Stadt | D5: =INDEX(Daten!$C$2:$C$401,MATCH($A5,Daten!$M$2:$M$401,0)) -> Nordrhein-Westfalen | E5: =INDEX(Daten!$D$2:$D$401,MATCH($A5,Daten!$M$2:$M$401,0)) -> 587696 | F5: =INDEX(Daten!$E$2:$E$401,MATCH($A5,Daten!$M$2:$M$401,0)) -> West | G5: =INDEX(Daten!$L$2:$L$401,MATCH($A5,Daten!$M$2:$M$401,0)) -> 11.5
A6: 5 | B6: =INDEX(Daten!$A$2:$A$401,MATCH($A6,Daten!$M$2:$M$401,0)) -> Pirmasens | C6: =INDEX(Daten!$B$2:$B$401,MATCH($A6,Daten!$M$2:$M$401,0)) -> Kreisfreie Stadt | D6: =INDEX(Daten!$C$2:$C$401,MATCH($A6,Daten!$M$2:$M$401,0)) -> Rheinland-Pfalz | E6: =INDEX(Daten!$D$2:$D$401,MATCH($A6,Daten!$M$2:$M$401,0)) -> 40176 | F6: =INDEX(Daten!$E$2:$E$401,MATCH($A6,Daten!$M$2:$M$401,0)) -> West | G6: =INDEX(Daten!$L$2:$L$401,MATCH($A6,Daten!$M$2:$M$401,0)) -> 11.5
A7: 6 | B7: =INDEX(Daten!$A$2:$A$401,MATCH($A7,Daten!$M$2:$M$401,0)) -> Hagen | C7: =INDEX(Daten!$B$2:$B$401,MATCH($A7,Daten!$M$2:$M$401,0)) -> Kreisfreie Stadt | D7: =INDEX(Daten!$C$2:$C$401,MATCH($A7,Daten!$M$2:$M$401,0)) -> Nordrhein-Westfalen | E7: =INDEX(Daten!$D$2:$D$401,MATCH($A7,Daten!$M$2:$M$401,0)) -> 188687 | F7: =INDEX(Daten!$E$2:$E$401,MATCH($A7,Daten!$M$2:$M$401,0)) -> West | G7: =INDEX(Daten!$L$2:$L$401,MATCH($A7,Daten!$M$2:$M$401,0)) -> 11.4
A8: 7 | B8: =INDEX(Daten!$A$2:$A$401,MATCH($A8,Daten!$M$2:$M$401,0)) -> Wilhelmshaven | C8: =INDEX(Daten!$B$2:$B$401,MATCH($A8,Daten!$M$2:$M$401,0)) -> Kreisfreie Stadt | D8: =INDEX(Daten!$C$2:$C$401,MATCH($A8,Daten!$M$2:$M$401,0)) -> Niedersachsen | E8: =INDEX(Daten!$D$2:$D$401,MATCH($A8,Daten!$M$2:$M$401,0)) -> 75189 | F8: =INDEX(Daten!$E$2:$E$401,MATCH($A8,Daten!$M$2:$M$401,0)) -> West | G8: =INDEX(Daten!$L$2:$L$401,MATCH($A8,Daten!$M$2:$M$401,0)) -> 11
A9: 8 | B9: =INDEX(Daten!$A$2:$A$401,MATCH($A9,Daten!$M$2:$M$401,0)) -> Herne | C9: =INDEX(Daten!$B$2:$B$401,MATCH($A9,Daten!$M$2:$M$401,0)) -> Kreisfreie Stadt | D9: =INDEX(Daten!$C$2:$C$401,MATCH($A9,Daten!$M$2:$M$401,0)) -> Nordrhein-Westfalen | E9: =INDEX(Daten!$D$2:$D$401,MATCH($A9,Daten!$M$2:$M$401,0)) -> 156940 | F9: =INDEX(Daten!$E$2:$E$401,MATCH($A9,Daten!$M$2:$M$401,0)) -> West | G9: =INDEX(Daten!$L$2:$L$401,MATCH($A9,Daten!$M$2:$M$401,0)) -> 11
A10: 9 | B10: =INDEX(Daten!$A$2:$A$401,MATCH($A10,Daten!$M$2:$M$401,0)) -> Uckermark | C10: =INDEX(Daten!$B$2:$B$401,MATCH($A10,Daten!$M$2:$M$401,0)) -> Landkreis | D10: =INDEX(Daten!$C$2:$C$401,MATCH($A10,Daten!$M$2:$M$401,0)) -> Brandenburg | E10: =INDEX(Daten!$D$2:$D$401,MATCH($A10,Daten!$M$2:$M$401,0)) -> 118250 | F10: =INDEX(Daten!$E$2:$E$401,MATCH($A10,Daten!$M$2:$M$401,0)) -> Ost | G10: =INDEX(Daten!$L$2:$L$401,MATCH($A10,Daten!$M$2:$M$401,0)) -> 10.7
A11: 10 | B11: =INDEX(Daten!$A$2:$A$401,MATCH($A11,Daten!$M$2:$M$401,0)) -> Essen | C11: =INDEX(Daten!$B$2:$B$401,MATCH($A11,Daten!$M$2:$M$401,0)) -> Kreisfreie Stadt | D11: =INDEX(Daten!$C$2:$C$401,MATCH($A11,Daten!$M$2:$M$401,0)) -> Nordrhein-Westfalen | E11: =INDEX(Daten!$D$2:$D$401,MATCH($A11,Daten!$M$2:$M$401,0)) -> 582415 | F11: =INDEX(Daten!$E$2:$E$401,MATCH($A11,Daten!$M$2:$M$401,0)) -> West | G11: =INDEX(Daten!$L$2:$L$401,MATCH($A11,Daten!$M$2:$M$401,0)) -> 10.6
A12: 11 | B12: =INDEX(Daten!$A$2:$A$401,MATCH($A12,Daten!$M$2:$M$401,0)) -> Krefeld | C12: =INDEX(Daten!$B$2:$B$401,MATCH($A12,Daten!$M$2:$M$401,0)) -> Kreisfreie Stadt | D12: =INDEX(Daten!$C$2:$C$401,MATCH($A12,Daten!$M$2:$M$401,0)) -> Nordrhein-Westfalen | E12: =INDEX(Daten!$D$2:$D$401,MATCH($A12,Daten!$M$2:$M$401,0)) -> 226844 | F12: =INDEX(Daten!$E$2:$E$401,MATCH($A12,Daten!$M$2:$M$401,0)) -> West | G12: =INDEX(Daten!$L$2:$L$401,MATCH($A12,Daten!$M$2:$M$401,0)) -> 10.5
A13: 12 | B13: =INDEX(Daten!$A$2:$A$401,MATCH($A13,Daten!$M$2:$M$401,0)) -> Oberhausen | C13: =INDEX(Daten!$B$2:$B$401,MATCH($A13,Daten!$M$2:$M$401,0)) -> Kreisfreie Stadt | D13: =INDEX(Daten!$C$2:$C$401,MATCH($A13,Daten!$M$2:$M$401,0)) -> Nordrhein-Westfalen | E13: =INDEX(Daten!$D$2:$D$401,MATCH($A13,Daten!$M$2:$M$401,0)) -> 209566 | F13: =INDEX(Daten!$E$2:$E$401,MATCH($A13,Daten!$M$2:$M$401,0)) -> West | G13: =INDEX(Daten!$L$2:$L$401,MATCH($A13,Daten!$M$2:$M$401,0)) -> 10.5
... A401: 400 | B401: =INDEX(Daten!$A$2:$A$401,MATCH($A401,Daten!$M$2:$M$401,0)) -> Pfaffenhofen a.d. Ilm | C401: =INDEX(Daten!$B$2:$B$401,MATCH($A401,Daten!$M$2:$M$401,0)) -> Landkreis | D401: =INDEX(Daten!$C$2:$C$401,MATCH($A401,Daten!$M$2:$M$401,0)) -> Bayern | E401: =INDEX(Daten!$D$2:$D$401,MATCH($A401,Daten!$M$2:$M$401,0)) -> 129128 | F401: =INDEX(Daten!$E$2:$E$401,MATCH($A401,Daten!$M$2:$M$401,0)) -> West | G401: =INDEX(Daten!$L$2:$L$401,MATCH($A401,Daten!$M$2:$M$401,0)) -> 2

Sheet Frauen im Beruf
A1: Platz | B1: Kreis | C1: Typ | D1: Bundesland | E1: Einwohner | F1: Region | G1: Frauen im Beruf
A2: 1 | B2: =INDEX(Daten!$A$2:$A$401,MATCH($A2,Daten!$O$2:$O$401,0)) -> Coburg | C2: =INDEX(Daten!$B$2:$B$401,MATCH($A2,Daten!$O$2:$O$401,0)) -> Landkreis | D2: =INDEX(Daten!$C$2:$C$401,MATCH($A2,Daten!$O$2:$O$401,0)) -> Bayern | E2: =INDEX(Daten!$D$2:$D$401,MATCH($A2,Daten!$O$2:$O$401,0)) -> 86571 | F2: =INDEX(Daten!$E$2:$E$401,MATCH($A2,Daten!$O$2:$O$401,0)) -> West | G2: =INDEX(Daten!$N$2:$N$401,MATCH($A2,Daten!$O$2:$O$401,0)) -> 70.8
A3: 2 | B3: =INDEX(Daten!$A$2:$A$401,MATCH($A3,Daten!$O$2:$O$401,0)) -> Hildburghausen | C3: =INDEX(Daten!$B$2:$B$401,MATCH($A3,Daten!$O$2:$O$401,0)) -> Landkreis | D3: =INDEX(Daten!$C$2:$C$401,MATCH($A3,Daten!$O$2:$O$401,0)) -> Thüringen | E3: =INDEX(Daten!$D$2:$D$401,MATCH($A3,Daten!$O$2:$O$401,0)) -> 62656 | F3: =INDEX(Daten!$E$2:$E$401,MATCH($A3,Daten!$O$2:$O$401,0)) -> Ost | G3: =INDEX(Daten!$N$2:$N$401,MATCH($A3,Daten!$O$2:$O$401,0)) -> 70.8
A4: 3 | B4: =INDEX(Daten!$A$2:$A$401,MATCH($A4,Daten!$O$2:$O$401,0)) -> Sächsische Schweiz-Osterzgebirge | C4: =INDEX(Daten!$B$2:$B$401,MATCH($A4,Daten!$O$2:$O$401,0)) -> Landkreis | D4: =INDEX(Daten!$C$2:$C$401,MATCH($A4,Daten!$O$2:$O$401,0)) -> Sachsen | E4: =INDEX(Daten!$D$2:$D$401,MATCH($A4,Daten!$O$2:$O$401,0)) -> 244722 | F4: =INDEX(Daten!$E$2:$E$401,MATCH($A4,Daten!$O$2:$O$401,0)) -> Ost | G4: =INDEX(Daten!$N$2:$N$401,MATCH($A4,Daten!$O$2:$O$401,0)) -> 70.4
A5: 4 | B5: =INDEX(Daten!$A$2:$A$401,MATCH($A5,Daten!$O$2:$O$401,0)) -> Erzgebirgskreis | C5: =INDEX(Daten!$B$2:$B$401,MATCH($A5,Daten!$O$2:$O$401,0)) -> Landkreis | D5: =INDEX(Daten!$C$2:$C$401,MATCH($A5,Daten!$O$2:$O$401,0)) -> Sachsen | E5: =INDEX(Daten!$D$2:$D$401,MATCH($A5,Daten!$O$2:$O$401,0)) -> 331917 | F5: =INDEX(Daten!$E$2:$E$401,MATCH($A5,Daten!$O$2:$O$401,0)) -> Ost | G5: =INDEX(Daten!$N$2:$N$401,MATCH($A5,Daten!$O$2:$O$401,0)) -> 70.1
A6: 5 | B6: =INDEX(Daten!$A$2:$A$401,MATCH($A6,Daten!$O$2:$O$401,0)) -> Dachau | C6: =INDEX(Daten!$B$2:$B$401,MATCH($A6,Daten!$O$2:$O$401,0)) -> Landkreis | D6: =INDEX(Daten!$C$2:$C$401,MATCH($A6,Daten!$O$2:$O$401,0)) -> Bayern | E6: =INDEX(Daten!$D$2:$D$401,MATCH($A6,Daten!$O$2:$O$401,0)) -> 155117 | F6: =INDEX(Daten!$E$2:$E$401,MATCH($A6,Daten!$O$2:$O$401,0)) -> West | G6: =INDEX(Daten!$N$2:$N$401,MATCH($A6,Daten!$O$2:$O$401,0)) -> 69.9
A7: 6 | B7: =INDEX(Daten!$A$2:$A$401,MATCH($A7,Daten!$O$2:$O$401,0)) -> Saalekreis | C7: =INDEX(Daten!$B$2:$B$401,MATCH($A7,Daten!$O$2:$O$401,0)) -> Landkreis | D7: =INDEX(Daten!$C$2:$C$401,MATCH($A7,Daten!$O$2:$O$401,0)) -> Sachsen-Anhalt | E7: =INDEX(Daten!$D$2:$D$401,MATCH($A7,Daten!$O$2:$O$401,0)) -> 183434 | F7: =INDEX(Daten!$E$2:$E$401,MATCH($A7,Daten!$O$2:$O$401,0)) -> Ost | G7: =INDEX(Daten!$N$2:$N$401,MATCH($A7,Daten!$O$2:$O$401,0)) -> 69.7
A8: 7 | B8: =INDEX(Daten!$A$2:$A$401,MATCH($A8,Daten!$O$2:$O$401,0)) -> Wittenberg | C8: =INDEX(Daten!$B$2:$B$401,MATCH($A8,Daten!$O$2:$O$401,0)) -> Landkreis | D8: =INDEX(Daten!$C$2:$C$401,MATCH($A8,Daten!$O$2:$O$401,0)) -> Sachsen-Anhalt | E8: =INDEX(Daten!$D$2:$D$401,MATCH($A8,Daten!$O$2:$O$401,0)) -> 124185 | F8: =INDEX(Daten!$E$2:$E$401,MATCH($A8,Daten!$O$2:$O$401,0)) -> Ost | G8: =INDEX(Daten!$N$2:$N$401,MATCH($A8,Daten!$O$2:$O$401,0)) -> 69.3
A9: 8 | B9: =INDEX(Daten!$A$2:$A$401,MATCH($A9,Daten!$O$2:$O$401,0)) -> Eichsfeld | C9: =INDEX(Daten!$B$2:$B$401,MATCH($A9,Daten!$O$2:$O$401,0)) -> Landkreis | D9: =INDEX(Daten!$C$2:$C$401,MATCH($A9,Daten!$O$2:$O$401,0)) -> Thüringen | E9: =INDEX(Daten!$D$2:$D$401,MATCH($A9,Daten!$O$2:$O$401,0)) -> 99463 | F9: =INDEX(Daten!$E$2:$E$401,MATCH($A9,Daten!$O$2:$O$401,0)) -> Ost | G9: =INDEX(Daten!$N$2:$N$401,MATCH($A9,Daten!$O$2:$O$401,0)) -> 69.3
A10: 9 | B10: =INDEX(Daten!$A$2:$A$401,MATCH($A10,Daten!$O$2:$O$401,0)) -> Anhalt-Bitterfeld | C10: =INDEX(Daten!$B$2:$B$401,MATCH($A10,Daten!$O$2:$O$401,0)) -> Landkreis | D10: =INDEX(Daten!$C$2:$C$401,MATCH($A10,Daten!$O$2:$O$401,0)) -> Sachsen-Anhalt | E10: =INDEX(Daten!$D$2:$D$401,MATCH($A10,Daten!$O$2:$O$401,0)) -> 157217 | F10: =INDEX(Daten!$E$2:$E$401,MATCH($A10,Daten!$O$2:$O$401,0)) -> Ost | G10: =INDEX(Daten!$N$2:$N$401,MATCH($A10,Daten!$O$2:$O$401,0)) -> 69.2
A11: 10 | B11: =INDEX(Daten!$A$2:$A$401,MATCH($A11,Daten!$O$2:$O$401,0)) -> Nordsachsen | C11: =INDEX(Daten!$B$2:$B$401,MATCH($A11,Daten!$O$2:$O$401,0)) -> Landkreis | D11: =INDEX(Daten!$C$2:$C$401,MATCH($A11,Daten!$O$2:$O$401,0)) -> Sachsen | E11: =INDEX(Daten!$D$2:$D$401,MATCH($A11,Daten!$O$2:$O$401,0)) -> 197444 | F11: =INDEX(Daten!$E$2:$E$401,MATCH($A11,Daten!$O$2:$O$401,0)) -> Ost | G11: =INDEX(Daten!$N$2:$N$401,MATCH($A11,Daten!$O$2:$O$401,0)) -> 69.1
A12: 11 | B12: =INDEX(Daten!$A$2:$A$401,MATCH($A12,Daten!$O$2:$O$401,0)) -> Börde | C12: =INDEX(Daten!$B$2:$B$401,MATCH($A12,Daten!$O$2:$O$401,0)) -> Landkreis | D12: =INDEX(Daten!$C$2:$C$401,MATCH($A12,Daten!$O$2:$O$401,0)) -> Sachsen-Anhalt | E12: =INDEX(Daten!$D$2:$D$401,MATCH($A12,Daten!$O$2:$O$401,0)) -> 170567 | F12: =INDEX(Daten!$E$2:$E$401,MATCH($A12,Daten!$O$2:$O$401,0)) -> Ost | G12: =INDEX(Daten!$N$2:$N$401,MATCH($A12,Daten!$O$2:$O$401,0)) -> 69.1
A13: 12 | B13: =INDEX(Daten!$A$2:$A$401,MATCH($A13,Daten!$O$2:$O$401,0)) -> Ebersberg | C13: =INDEX(Daten!$B$2:$B$401,MATCH($A13,Daten!$O$2:$O$401,0)) -> Landkreis | D13: =INDEX(Daten!$C$2:$C$401,MATCH($A13,Daten!$O$2:$O$401,0)) -> Bayern | E13: =INDEX(Daten!$D$2:$D$401,MATCH($A13,Daten!$O$2:$O$401,0)) -> 144091 | F13: =INDEX(Daten!$E$2:$E$401,MATCH($A13,Daten!$O$2:$O$401,0)) -> West | G13: =INDEX(Daten!$N$2:$N$401,MATCH($A13,Daten!$O$2:$O$401,0)) -> 69
